FILENAME: O4710541.SES.1165036.tif
QUADRANGLE_NAME: BEAUTY CREEK
QUADRANT: SE
WEST_LONGITUDE: -105 56 15.00000
EAST_LONGITUDE: -105 52 30.00000
NORTH_LATITUDE: 47 18 45.00000
SOUTH_LATITUDE: 47 15 0.00000
PRODUCTION_DATE: 2001 10 8
RASTER_ORDER: LEFT_RIGHT/TOP_BOTTOM
BAND_ORGANIZATION: SINGLE FILE
BAND_CONTENT: BLACK&WHITE
BAND_CONTENT: UNDEFINED
BAND_CONTENT: UNDEFINED
BITS_PER_PIXEL: 8
SAMPLES_AND_LINES: 5462 7613
HORIZONTAL_DATUM: NAD83
HORIZONTAL_COORDINATE_SYSTEM: UTM
COORDINATE_ZONE: 13
HORIZONTAL_UNITS: meters
HORIZONTAL_RESOLUTION: 1.00000
SECONDARY_HORIZONTAL_DATUM: NAD27
XY_ORIGIN: 428710.00000 5240625.00000
SECONDARY_XY_ORIGIN: 428751.12100 5240405.50500
NATION: US
STATE: MT
NW_QUAD_CORNER_XY: 429142.90800 5240318.18600
NE_QUAD_CORNER_XY: 433866.68400 5240263.26100
SE_QUAD_CORNERY_XY: 433788.74800 5233317.58300
SW_QUAD_CORNER_XY: 429059.40400 5233372.51800
SECONDARY_NW_QUAD_XY: 429140.71000 5240099.53400
SECONDARY_NE_QUAD_XY: 433864.63300 5240044.60600
SECONDARY_SE_QUAD_XY: 433786.69700 5233098.95300
SECONDARY_SW_QUAD_XY: 429057.20700 5233153.89000
RMSE_XY: 2.40000
IMAGE_SOURCE: BLACK AND WHITE FILM
SOURCE_IMAGE_ID: NAPP 9088-083
SOURCE_IMAGE_DATE: 1996 7 7
SOURCE_DEM_DATE: 1999 0 0
AGENCY: WESTERN MAPPING CENTER (WMC)
PRODUCER: WOOLPERT LLP
PRODUCTION_SYSTEM: INTERGRAPH ISPM, ISIR
COMPRESSION: UNDEFINED
STANDARD_VERSION: 1996 12
METADATA_DATE: 2001 10 8
DATA_FILE_SIZE: 41587668
BYTE_COUNT: 5462
