FILENAME: O4710539.SWS.1165306.tif
QUADRANGLE_NAME: JOHNSON RESERVOIR NW
QUADRANT: SW
WEST_LONGITUDE: -105 15 0.00000
EAST_LONGITUDE: -105 11 15.00000
NORTH_LATITUDE: 47 26 15.00000
SOUTH_LATITUDE: 47 22 30.00000
PRODUCTION_DATE: 2001 9 26
RASTER_ORDER: LEFT_RIGHT/TOP_BOTTOM
BAND_ORGANIZATION: SINGLE FILE
BAND_CONTENT: BLACK&WHITE
BAND_CONTENT: UNDEFINED
BAND_CONTENT: UNDEFINED
BITS_PER_PIXEL: 8
SAMPLES_AND_LINES: 5386 7572
HORIZONTAL_DATUM: NAD83
HORIZONTAL_COORDINATE_SYSTEM: UTM
COORDINATE_ZONE: 13
HORIZONTAL_UNITS: meters
HORIZONTAL_RESOLUTION: 1.00000
SECONDARY_HORIZONTAL_DATUM: NAD27
XY_ORIGIN: 480781.00000 5254121.00000
SECONDARY_XY_ORIGIN: 480821.12400 5253900.85400
NATION: US
STATE: MT
NW_QUAD_CORNER_XY: 481149.31400 5253814.05500
NE_QUAD_CORNER_XY: 485861.98400 5253800.80200
SE_QUAD_CORNERY_XY: 485845.25000 5246854.91200
SW_QUAD_CORNER_XY: 481127.00200 5246868.16700
SECONDARY_NW_QUAD_XY: 481148.72700 5253595.34300
SECONDARY_NE_QUAD_XY: 485861.54400 5253582.09000
SECONDARY_SE_QUAD_XY: 485844.81000 5246636.22300
SECONDARY_SW_QUAD_XY: 481126.41600 5246649.47800
RMSE_XY: 2.14000
IMAGE_SOURCE: BLACK AND WHITE FILM
SOURCE_IMAGE_ID: NAPP 10763-007
SOURCE_IMAGE_DATE: 1997 9 20
SOURCE_IMAGE_ID: NAPP 10763-008
SOURCE_IMAGE_DATE: 1997 9 20
SOURCE_IMAGE_ID: NAPP 9119-257
SOURCE_IMAGE_DATE: 1996 8 26
SOURCE_IMAGE_ID: NAPP 9116-188
SOURCE_IMAGE_DATE: 1996 8 27
SOURCE_IMAGE_ID: NAPP 9103-180
SOURCE_IMAGE_DATE: 1996 7 15
SOURCE_DEM_DATE: 1999 0 0
AGENCY: WESTERN MAPPING CENTER (WMC)
PRODUCER: WOOLPERT LLP
PRODUCTION_SYSTEM: INTERGRAPH ISPM, ISIR
COMPRESSION: UNDEFINED
STANDARD_VERSION: 1996 12
METADATA_DATE: 2001 10 26
DATA_FILE_SIZE: 40788178
BYTE_COUNT: 5386
