FILENAME: O4710533.NWS.1165031.tif
QUADRANGLE_NAME: JOHNSON COULEE EAST
QUADRANT: NW
WEST_LONGITUDE: -106 0 0.00000
EAST_LONGITUDE: -105 56 15.00000
NORTH_LATITUDE: 47 30 0.00000
SOUTH_LATITUDE: 47 26 15.00000
PRODUCTION_DATE: 2001 10 8
RASTER_ORDER: LEFT_RIGHT/TOP_BOTTOM
BAND_ORGANIZATION: SINGLE FILE
BAND_CONTENT: BLACK&WHITE
BAND_CONTENT: UNDEFINED
BAND_CONTENT: UNDEFINED
BITS_PER_PIXEL: 8
SAMPLES_AND_LINES: 5450 7617
HORIZONTAL_DATUM: NAD83
HORIZONTAL_COORDINATE_SYSTEM: UTM
COORDINATE_ZONE: 13
HORIZONTAL_UNITS: meters
HORIZONTAL_RESOLUTION: 1.00000
SECONDARY_HORIZONTAL_DATUM: NAD27
XY_ORIGIN: 424249.00000 5261521.00000
SECONDARY_XY_ORIGIN: 424289.83900 5261301.38300
NATION: US
STATE: MT
NW_QUAD_CORNER_XY: 424686.89800 5261214.31800
NE_QUAD_CORNER_XY: 429393.93000 5261155.63500
SE_QUAD_CORNERY_XY: 429310.17100 5254209.74500
SW_QUAD_CORNER_XY: 424597.55500 5254268.43800
SECONDARY_NW_QUAD_XY: 424684.55300 5260995.59800
SECONDARY_NE_QUAD_XY: 429391.73100 5260936.91400
SECONDARY_SE_QUAD_XY: 429307.97300 5253991.04600
SECONDARY_SW_QUAD_XY: 424595.20900 5254049.74100
RMSE_XY: 2.20000
IMAGE_SOURCE: BLACK AND WHITE FILM
SOURCE_IMAGE_ID: NAPP 9088-173
SOURCE_IMAGE_DATE: 1996 7 7
SOURCE_DEM_DATE: 1999 0 0
AGENCY: WESTERN MAPPING CENTER (WMC)
PRODUCER: WOOLPERT LLP
PRODUCTION_SYSTEM: INTERGRAPH ISPM, ISIR
COMPRESSION: UNDEFINED
STANDARD_VERSION: 1996 12
METADATA_DATE: 2001 10 8
DATA_FILE_SIZE: 41518100
BYTE_COUNT: 5450
