FILENAME: O4710532.SES.1165277.tif
QUADRANGLE_NAME: RICHEY SE
QUADRANT: SE
WEST_LONGITUDE: -105 3 45.00000
EAST_LONGITUDE: -105 0 0.00000
NORTH_LATITUDE: 47 33 45.00000
SOUTH_LATITUDE: 47 30 0.00000
PRODUCTION_DATE: 2001 9 19
RASTER_ORDER: LEFT_RIGHT/TOP_BOTTOM
BAND_ORGANIZATION: SINGLE FILE
BAND_CONTENT: BLACK&WHITE
BAND_CONTENT: UNDEFINED
BAND_CONTENT: UNDEFINED
BITS_PER_PIXEL: 8
SAMPLES_AND_LINES: 5358 7561
HORIZONTAL_DATUM: NAD83
HORIZONTAL_COORDINATE_SYSTEM: UTM
COORDINATE_ZONE: 13
HORIZONTAL_UNITS: meters
HORIZONTAL_RESOLUTION: 1.00000
SECONDARY_HORIZONTAL_DATUM: NAD27
XY_ORIGIN: 494947.00000 5267985.00000
SECONDARY_XY_ORIGIN: 494986.82000 5267764.65900
NATION: US
STATE: MT
NW_QUAD_CORNER_XY: 495298.50000 5267677.67100
NE_QUAD_CORNER_XY: 500000.00000 5267675.77800
SE_QUAD_CORNERY_XY: 500000.00000 5260729.73300
SW_QUAD_CORNER_XY: 495292.91100 5260731.62600
SECONDARY_NW_QUAD_XY: 495298.35300 5267458.91500
SECONDARY_NE_QUAD_XY: 500000.00000 5267457.02200
SECONDARY_SE_QUAD_XY: 500000.00000 5260510.99800
SECONDARY_SW_QUAD_XY: 495292.76400 5260512.89100
RMSE_XY: 2.19000
IMAGE_SOURCE: BLACK AND WHITE FILM
SOURCE_IMAGE_ID: NAPP 9096-188
SOURCE_IMAGE_DATE: 1996 7 9
SOURCE_IMAGE_ID: NAPP 9096-189
SOURCE_IMAGE_DATE: 1996 7 9
SOURCE_IMAGE_ID: NAPP 9096-095
SOURCE_IMAGE_DATE: 1996 7 9
SOURCE_DEM_DATE: 1999 0 0
AGENCY: WESTERN MAPPING CENTER (WMC)
PRODUCER: WOOLPERT LLP
PRODUCTION_SYSTEM: INTERGRAPH ISPM, ISIR
COMPRESSION: UNDEFINED
STANDARD_VERSION: 1996 12
METADATA_DATE: 2001 10 9
DATA_FILE_SIZE: 40517196
BYTE_COUNT: 5358
