FILENAME: O4710532.SWS.1165278.tif
QUADRANGLE_NAME: RICHEY SE
QUADRANT: SW
WEST_LONGITUDE: -105 7 30.00000
EAST_LONGITUDE: -105 3 45.00000
NORTH_LATITUDE: 47 33 45.00000
SOUTH_LATITUDE: 47 30 0.00000
PRODUCTION_DATE: 2001 9 19
RASTER_ORDER: LEFT_RIGHT/TOP_BOTTOM
BAND_ORGANIZATION: SINGLE FILE
BAND_CONTENT: BLACK&WHITE
BAND_CONTENT: UNDEFINED
BAND_CONTENT: UNDEFINED
BITS_PER_PIXEL: 8
SAMPLES_AND_LINES: 5364 7564
HORIZONTAL_DATUM: NAD83
HORIZONTAL_COORDINATE_SYSTEM: UTM
COORDINATE_ZONE: 13
HORIZONTAL_UNITS: meters
HORIZONTAL_RESOLUTION: 1.00000
SECONDARY_HORIZONTAL_DATUM: NAD27
XY_ORIGIN: 490240.00000 5267990.00000
SECONDARY_XY_ORIGIN: 490279.88100 5267769.66900
NATION: US
STATE: MT
NW_QUAD_CORNER_XY: 490597.00000 5267683.34800
NE_QUAD_CORNER_XY: 495298.50000 5267677.67100
SE_QUAD_CORNERY_XY: 495292.91100 5260731.62600
SW_QUAD_CORNER_XY: 490585.82200 5260737.30400
SECONDARY_NW_QUAD_XY: 490596.70700 5267464.59200
SECONDARY_NE_QUAD_XY: 495298.35300 5267458.91500
SECONDARY_SE_QUAD_XY: 495292.76400 5260512.89100
SECONDARY_SW_QUAD_XY: 490585.52900 5260518.57000
RMSE_XY: 2.22000
IMAGE_SOURCE: BLACK AND WHITE FILM
SOURCE_IMAGE_ID: NAPP 9103-150
SOURCE_IMAGE_DATE: 1996 7 15
SOURCE_IMAGE_ID: NAPP 9096-189
SOURCE_IMAGE_DATE: 1996 7 9
SOURCE_DEM_DATE: 1999 0 0
AGENCY: WESTERN MAPPING CENTER (WMC)
PRODUCER: WOOLPERT LLP
PRODUCTION_SYSTEM: INTERGRAPH ISPM, ISIR
COMPRESSION: UNDEFINED
STANDARD_VERSION: 1996 12
METADATA_DATE: 2001 10 9
DATA_FILE_SIZE: 40578660
BYTE_COUNT: 5364
