FILENAME: O4710530.SWS.1165254.tif
QUADRANGLE_NAME: BUFFALO CREEK SE
QUADRANT: SW
WEST_LONGITUDE: -105 22 30.00000
EAST_LONGITUDE: -105 18 45.00000
NORTH_LATITUDE: 47 33 45.00000
SOUTH_LATITUDE: 47 30 0.00000
PRODUCTION_DATE: 2001 10 2
RASTER_ORDER: LEFT_RIGHT/TOP_BOTTOM
BAND_ORGANIZATION: SINGLE FILE
BAND_CONTENT: BLACK&WHITE
BAND_CONTENT: UNDEFINED
BAND_CONTENT: UNDEFINED
BITS_PER_PIXEL: 8
SAMPLES_AND_LINES: 5387 7579
HORIZONTAL_DATUM: NAD83
HORIZONTAL_COORDINATE_SYSTEM: UTM
COORDINATE_ZONE: 13
HORIZONTAL_UNITS: meters
HORIZONTAL_RESOLUTION: 1.00000
SECONDARY_HORIZONTAL_DATUM: NAD27
XY_ORIGIN: 471411.00000 5268051.00000
SECONDARY_XY_ORIGIN: 471451.13000 5267830.74600
NATION: US
STATE: MT
NW_QUAD_CORNER_XY: 471791.01600 5267743.90800
NE_QUAD_CORNER_XY: 476492.50900 5267723.09000
SE_QUAD_CORNERY_XY: 476464.56300 5260777.05400
SW_QUAD_CORNER_XY: 471757.48100 5260797.87500
SECONDARY_NW_QUAD_XY: 471790.13600 5267525.15400
SECONDARY_NE_QUAD_XY: 476491.77600 5267504.33600
SECONDARY_SE_QUAD_XY: 476463.83000 5260558.32100
SECONDARY_SW_QUAD_XY: 471756.60200 5260579.14300
RMSE_XY: 2.68000
IMAGE_SOURCE: BLACK AND WHITE FILM
SOURCE_IMAGE_ID: NAPP 9116-087
SOURCE_IMAGE_DATE: 1996 8 27
SOURCE_IMAGE_ID: NAPP 9116-086
SOURCE_IMAGE_DATE: 1996 8 27
SOURCE_IMAGE_ID: NAPP 9116-088
SOURCE_IMAGE_DATE: 1996 8 27
SOURCE_DEM_DATE: 1999 0 0
AGENCY: WESTERN MAPPING CENTER (WMC)
PRODUCER: WOOLPERT LLP
PRODUCTION_SYSTEM: INTERGRAPH ISPM, ISIR
COMPRESSION: UNDEFINED
STANDARD_VERSION: 1996 12
METADATA_DATE: 2001 10 8
DATA_FILE_SIZE: 40833460
BYTE_COUNT: 5387
