FILENAME: O4710529.NWS.1165240.tif
QUADRANGLE_NAME: BUFFALO CREEK
QUADRANT: NW
WEST_LONGITUDE: -105 30 0.00000
EAST_LONGITUDE: -105 26 15.00000
NORTH_LATITUDE: 47 37 30.00000
SOUTH_LATITUDE: 47 33 45.00000
PRODUCTION_DATE: 2001 9 28
RASTER_ORDER: LEFT_RIGHT/TOP_BOTTOM
BAND_ORGANIZATION: SINGLE FILE
BAND_CONTENT: BLACK&WHITE
BAND_CONTENT: UNDEFINED
BAND_CONTENT: UNDEFINED
BITS_PER_PIXEL: 8
SAMPLES_AND_LINES: 5393 7587
HORIZONTAL_DATUM: NAD83
HORIZONTAL_COORDINATE_SYSTEM: UTM
COORDINATE_ZONE: 13
HORIZONTAL_UNITS: meters
HORIZONTAL_RESOLUTION: 1.00000
SECONDARY_HORIZONTAL_DATUM: NAD27
XY_ORIGIN: 462041.00000 5275050.00000
SECONDARY_XY_ORIGIN: 462081.19100 5274829.70000
NATION: US
STATE: MT
NW_QUAD_CORNER_XY: 462432.79900 5274742.99500
NE_QUAD_CORNER_XY: 467128.69000 5274714.61300
SE_QUAD_CORNERY_XY: 467089.52600 5267768.51000
SW_QUAD_CORNER_XY: 462388.04000 5267796.89800
SECONDARY_NW_QUAD_XY: 462431.62600 5274524.22300
SECONDARY_NE_QUAD_XY: 467127.66400 5274495.84000
SECONDARY_SE_QUAD_XY: 467088.50000 5267549.75700
SECONDARY_SW_QUAD_XY: 462386.86700 5267578.14500
RMSE_XY: 2.77000
IMAGE_SOURCE: BLACK AND WHITE FILM
SOURCE_IMAGE_ID: NAPP 9093-175
SOURCE_IMAGE_DATE: 1996 7 9
SOURCE_DEM_DATE: 1999 0 0
AGENCY: WESTERN MAPPING CENTER (WMC)
PRODUCER: WOOLPERT LLP
PRODUCTION_SYSTEM: INTERGRAPH ISPM, ISIR
COMPRESSION: UNDEFINED
STANDARD_VERSION: 1996 12
METADATA_DATE: 2001 9 28
DATA_FILE_SIZE: 40922084
BYTE_COUNT: 5393
