FILENAME: O4710529.SES.1165241.tif
QUADRANGLE_NAME: BUFFALO CREEK
QUADRANT: SE
WEST_LONGITUDE: -105 26 15.00000
EAST_LONGITUDE: -105 22 30.00000
NORTH_LATITUDE: 47 33 45.00000
SOUTH_LATITUDE: 47 30 0.00000
PRODUCTION_DATE: 2001 9 28
RASTER_ORDER: LEFT_RIGHT/TOP_BOTTOM
BAND_ORGANIZATION: SINGLE FILE
BAND_CONTENT: BLACK&WHITE
BAND_CONTENT: UNDEFINED
BAND_CONTENT: UNDEFINED
BITS_PER_PIXEL: 8
SAMPLES_AND_LINES: 5393 7583
HORIZONTAL_DATUM: NAD83
HORIZONTAL_COORDINATE_SYSTEM: UTM
COORDINATE_ZONE: 13
HORIZONTAL_UNITS: meters
HORIZONTAL_RESOLUTION: 1.00000
SECONDARY_HORIZONTAL_DATUM: NAD27
XY_ORIGIN: 466704.00000 5268075.00000
SECONDARY_XY_ORIGIN: 466744.19300 5267854.77400
NATION: US
STATE: MT
NW_QUAD_CORNER_XY: 467089.52600 5267768.51000
NE_QUAD_CORNER_XY: 471791.01600 5267743.90800
SE_QUAD_CORNERY_XY: 471757.48100 5260797.87500
SW_QUAD_CORNER_XY: 467050.40200 5260822.48200
SECONDARY_NW_QUAD_XY: 467088.50000 5267549.75700
SECONDARY_NE_QUAD_XY: 471790.13600 5267525.15400
SECONDARY_SE_QUAD_XY: 471756.60200 5260579.14300
SECONDARY_SW_QUAD_XY: 467049.37600 5260603.75000
RMSE_XY: 2.72000
IMAGE_SOURCE: BLACK AND WHITE FILM
SOURCE_IMAGE_ID: NAPP 9093-080
SOURCE_IMAGE_DATE: 1996 7 9
SOURCE_IMAGE_ID: NAPP 9093-178
SOURCE_IMAGE_DATE: 1996 7 9
SOURCE_DEM_DATE: 1999 0 0
AGENCY: WESTERN MAPPING CENTER (WMC)
PRODUCER: WOOLPERT LLP
PRODUCTION_SYSTEM: INTERGRAPH ISPM, ISIR
COMPRESSION: UNDEFINED
STANDARD_VERSION: 1996 12
METADATA_DATE: 2001 10 12
DATA_FILE_SIZE: 40900512
BYTE_COUNT: 5393
