FILENAME: O4710526.SES.1165004.tif
QUADRANGLE_NAME: NORTH FORK HORSE CREEK
QUADRANT: SE
WEST_LONGITUDE: -105 48 45.00000
EAST_LONGITUDE: -105 45 0.00000
NORTH_LATITUDE: 47 33 45.00000
SOUTH_LATITUDE: 47 30 0.00000
PRODUCTION_DATE: 2001 10 11
RASTER_ORDER: LEFT_RIGHT/TOP_BOTTOM
BAND_ORGANIZATION: SINGLE FILE
BAND_CONTENT: BLACK&WHITE
BAND_CONTENT: UNDEFINED
BAND_CONTENT: UNDEFINED
BITS_PER_PIXEL: 8
SAMPLES_AND_LINES: 5428 7605
HORIZONTAL_DATUM: NAD83
HORIZONTAL_COORDINATE_SYSTEM: UTM
COORDINATE_ZONE: 13
HORIZONTAL_UNITS: meters
HORIZONTAL_RESOLUTION: 1.00000
SECONDARY_HORIZONTAL_DATUM: NAD27
XY_ORIGIN: 438460.00000 5268302.00000
SECONDARY_XY_ORIGIN: 438500.55300 5268082.02200
NATION: US
STATE: MT
NW_QUAD_CORNER_XY: 438880.67700 5267995.61500
NE_QUAD_CORNER_XY: 443582.13900 5267948.30000
SE_QUAD_CORNERY_XY: 443515.06600 5261002.30700
SW_QUAD_CORNER_XY: 438808.01400 5261049.63000
SECONDARY_NW_QUAD_XY: 438878.77100 5267776.86900
SECONDARY_NE_QUAD_XY: 443580.37900 5267729.55300
SECONDARY_SE_QUAD_XY: 443513.30700 5260783.58100
SECONDARY_SW_QUAD_XY: 438806.10800 5260830.90500
RMSE_XY: 2.15000
IMAGE_SOURCE: BLACK AND WHITE FILM
SOURCE_IMAGE_ID: NAPP 9086-163
SOURCE_IMAGE_DATE: 1996 6 13
SOURCE_DEM_DATE: 1999 0 0
AGENCY: WESTERN MAPPING CENTER (WMC)
PRODUCER: WOOLPERT LLP
PRODUCTION_SYSTEM: INTERGRAPH ISPM, ISIR
COMPRESSION: UNDEFINED
STANDARD_VERSION: 1996 12
METADATA_DATE: 2001 10 11
DATA_FILE_SIZE: 41285368
BYTE_COUNT: 5428
