FILENAME: O4710523.SES.1165261.tif
QUADRANGLE_NAME: RICHEY NW
QUADRANT: SE
WEST_LONGITUDE: -105 11 15.00000
EAST_LONGITUDE: -105 7 30.00000
NORTH_LATITUDE: 47 41 15.00000
SOUTH_LATITUDE: 47 37 30.00000
PRODUCTION_DATE: 2001 10 1
RASTER_ORDER: LEFT_RIGHT/TOP_BOTTOM
BAND_ORGANIZATION: SINGLE FILE
BAND_CONTENT: BLACK&WHITE
BAND_CONTENT: UNDEFINED
BAND_CONTENT: UNDEFINED
BITS_PER_PIXEL: 8
SAMPLES_AND_LINES: 5359 7568
HORIZONTAL_DATUM: NAD83
HORIZONTAL_COORDINATE_SYSTEM: UTM
COORDINATE_ZONE: 13
HORIZONTAL_UNITS: meters
HORIZONTAL_RESOLUTION: 1.00000
SECONDARY_HORIZONTAL_DATUM: NAD27
XY_ORIGIN: 485566.00000 5281892.00000
SECONDARY_XY_ORIGIN: 485605.82800 5281671.50500
NATION: US
STATE: MT
NW_QUAD_CORNER_XY: 485929.08700 5281585.12300
NE_QUAD_CORNER_XY: 490619.39000 5281575.66400
SE_QUAD_CORNERY_XY: 490608.19000 5274629.46800
SW_QUAD_CORNER_XY: 485912.28600 5274638.92900
SECONDARY_NW_QUAD_XY: 485928.64700 5281366.32700
SECONDARY_NE_QUAD_XY: 490619.09700 5281356.86800
SECONDARY_SE_QUAD_XY: 490607.89600 5274410.69200
SECONDARY_SW_QUAD_XY: 485911.84600 5274420.15300
RMSE_XY: 2.60000
IMAGE_SOURCE: BLACK AND WHITE FILM
SOURCE_IMAGE_ID: NAPP 9103-189
SOURCE_IMAGE_DATE: 1996 7 15
SOURCE_DEM_DATE: 1999 0 0
AGENCY: WESTERN MAPPING CENTER (WMC)
PRODUCER: WOOLPERT LLP
PRODUCTION_SYSTEM: INTERGRAPH ISPM, ISIR
COMPRESSION: UNDEFINED
STANDARD_VERSION: 1996 12
METADATA_DATE: 2001 10 1
DATA_FILE_SIZE: 40562271
BYTE_COUNT: 5359
