FILENAME: O4710514.NES.1165243.tif
QUADRANGLE_NAME: KRAUT COULEE
QUADRANT: NE
WEST_LONGITUDE: -105 18 45.00000
EAST_LONGITUDE: -105 15 0.00000
NORTH_LATITUDE: 47 52 30.00000
SOUTH_LATITUDE: 47 48 45.00000
PRODUCTION_DATE: 2001 10 1
RASTER_ORDER: LEFT_RIGHT/TOP_BOTTOM
BAND_ORGANIZATION: SINGLE FILE
BAND_CONTENT: BLACK&WHITE
BAND_CONTENT: UNDEFINED
BAND_CONTENT: UNDEFINED
BITS_PER_PIXEL: 8
SAMPLES_AND_LINES: 5353 7577
HORIZONTAL_DATUM: NAD83
HORIZONTAL_COORDINATE_SYSTEM: UTM
COORDINATE_ZONE: 13
HORIZONTAL_UNITS: meters
HORIZONTAL_RESOLUTION: 1.00000
SECONDARY_HORIZONTAL_DATUM: NAD27
XY_ORIGIN: 476259.00000 5302762.00000
SECONDARY_XY_ORIGIN: 476298.78300 5302541.24000
NATION: US
STATE: MT
NW_QUAD_CORNER_XY: 476632.66000 5302454.40900
NE_QUAD_CORNER_XY: 481306.12500 5302437.39400
SE_QUAD_CORNERY_XY: 481283.65600 5295490.97500
SW_QUAD_CORNER_XY: 476604.57400 5295507.99400
SECONDARY_NW_QUAD_XY: 476631.92700 5302235.56100
SECONDARY_NE_QUAD_XY: 481305.53800 5302218.54600
SECONDARY_SE_QUAD_XY: 481283.06900 5295272.14400
SECONDARY_SW_QUAD_XY: 476603.84000 5295289.16300
RMSE_XY: 2.56000
IMAGE_SOURCE: BLACK AND WHITE FILM
SOURCE_IMAGE_ID: NAPP 9116-173
SOURCE_IMAGE_DATE: 1996 8 27
SOURCE_DEM_DATE: 1999 0 0
AGENCY: WESTERN MAPPING CENTER (WMC)
PRODUCER: WOOLPERT LLP
PRODUCTION_SYSTEM: INTERGRAPH ISPM, ISIR
COMPRESSION: UNDEFINED
STANDARD_VERSION: 1996 12
METADATA_DATE: 2001 10 1
DATA_FILE_SIZE: 40565034
BYTE_COUNT: 5353
