FILENAME: O4710514.NWS.1165244.tif
QUADRANGLE_NAME: KRAUT COULEE
QUADRANT: NW
WEST_LONGITUDE: -105 22 30.00000
EAST_LONGITUDE: -105 18 45.00000
NORTH_LATITUDE: 47 52 30.00000
SOUTH_LATITUDE: 47 48 45.00000
PRODUCTION_DATE: 2001 10 2
RASTER_ORDER: LEFT_RIGHT/TOP_BOTTOM
BAND_ORGANIZATION: SINGLE FILE
BAND_CONTENT: BLACK&WHITE
BAND_CONTENT: UNDEFINED
BAND_CONTENT: UNDEFINED
BITS_PER_PIXEL: 8
SAMPLES_AND_LINES: 5359 7581
HORIZONTAL_DATUM: NAD83
HORIZONTAL_COORDINATE_SYSTEM: UTM
COORDINATE_ZONE: 13
HORIZONTAL_UNITS: meters
HORIZONTAL_RESOLUTION: 1.00000
SECONDARY_HORIZONTAL_DATUM: NAD27
XY_ORIGIN: 471579.00000 5302783.00000
SECONDARY_XY_ORIGIN: 471618.84500 5302562.24800
NATION: US
STATE: MT
NW_QUAD_CORNER_XY: 471959.19800 5302475.20500
NE_QUAD_CORNER_XY: 476632.66000 5302454.40900
SE_QUAD_CORNERY_XY: 476604.57400 5295507.99400
SW_QUAD_CORNER_XY: 471925.49400 5295528.79400
SECONDARY_NW_QUAD_XY: 471958.31800 5302256.35800
SECONDARY_NE_QUAD_XY: 476631.92700 5302235.56100
SECONDARY_SE_QUAD_XY: 476603.84000 5295289.16300
SECONDARY_SW_QUAD_XY: 471924.61400 5295309.96400
RMSE_XY: 2.36000
IMAGE_SOURCE: BLACK AND WHITE FILM
SOURCE_IMAGE_ID: NAPP 9116-097
SOURCE_IMAGE_DATE: 1996 8 27
SOURCE_DEM_DATE: 1999 0 0
AGENCY: WESTERN MAPPING CENTER (WMC)
PRODUCER: WOOLPERT LLP
PRODUCTION_SYSTEM: INTERGRAPH ISPM, ISIR
COMPRESSION: UNDEFINED
STANDARD_VERSION: 1996 12
METADATA_DATE: 2001 10 2
DATA_FILE_SIZE: 40631938
BYTE_COUNT: 5359
