FILENAME: O4710512.SES.1165020.tif
QUADRANGLE_NAME: LONE PINE SCHOOL
QUADRANT: SE
WEST_LONGITUDE: -105 33 45.00000
EAST_LONGITUDE: -105 30 0.00000
NORTH_LATITUDE: 47 48 45.00000
SOUTH_LATITUDE: 47 45 0.00000
PRODUCTION_DATE: 2001 10 8
RASTER_ORDER: LEFT_RIGHT/TOP_BOTTOM
BAND_ORGANIZATION: SINGLE FILE
BAND_CONTENT: BLACK&WHITE
BAND_CONTENT: UNDEFINED
BAND_CONTENT: UNDEFINED
BITS_PER_PIXEL: 8
SAMPLES_AND_LINES: 5382 7591
HORIZONTAL_DATUM: NAD83
HORIZONTAL_COORDINATE_SYSTEM: UTM
COORDINATE_ZONE: 13
HORIZONTAL_UNITS: meters
HORIZONTAL_RESOLUTION: 1.00000
SECONDARY_HORIZONTAL_DATUM: NAD27
XY_ORIGIN: 457491.00000 5295921.00000
SECONDARY_XY_ORIGIN: 457531.06800 5295700.37900
NATION: US
STATE: MT
NW_QUAD_CORNER_XY: 457888.27800 5295613.88800
NE_QUAD_CORNER_XY: 462567.34600 5295581.74200
SE_QUAD_CORNERY_XY: 462522.45200 5288635.41700
SW_QUAD_CORNER_XY: 457837.77200 5288667.57100
SECONDARY_NW_QUAD_XY: 457886.95800 5295395.06100
SECONDARY_NE_QUAD_XY: 462566.17300 5295362.91300
SECONDARY_SE_QUAD_XY: 462521.27900 5288416.60700
SECONDARY_SW_QUAD_XY: 457836.45200 5288448.76100
RMSE_XY: 2.02000
IMAGE_SOURCE: BLACK AND WHITE FILM
SOURCE_IMAGE_ID: NAPP 9094-049
SOURCE_IMAGE_DATE: 1996 7 9
SOURCE_IMAGE_ID: NAPP 9094-050
SOURCE_IMAGE_DATE: 1996 7 9
SOURCE_DEM_DATE: 1999 0 0
AGENCY: WESTERN MAPPING CENTER (WMC)
PRODUCER: WOOLPERT LLP
PRODUCTION_SYSTEM: INTERGRAPH ISPM, ISIR
COMPRESSION: UNDEFINED
STANDARD_VERSION: 1996 12
METADATA_DATE: 2001 10 22
DATA_FILE_SIZE: 40860144
BYTE_COUNT: 5382
