FILENAME: O4710511.NES.1165006.tif
QUADRANGLE_NAME: DAILEY SPRING
QUADRANT: NE
WEST_LONGITUDE: -105 41 15.00000
EAST_LONGITUDE: -105 37 30.00000
NORTH_LATITUDE: 47 52 30.00000
SOUTH_LATITUDE: 47 48 45.00000
PRODUCTION_DATE: 2001 10 10
RASTER_ORDER: LEFT_RIGHT/TOP_BOTTOM
BAND_ORGANIZATION: SINGLE FILE
BAND_CONTENT: BLACK&WHITE
BAND_CONTENT: UNDEFINED
BAND_CONTENT: UNDEFINED
BITS_PER_PIXEL: 8
SAMPLES_AND_LINES: 5388 7599
HORIZONTAL_DATUM: NAD83
HORIZONTAL_COORDINATE_SYSTEM: UTM
COORDINATE_ZONE: 13
HORIZONTAL_UNITS: meters
HORIZONTAL_RESOLUTION: 1.00000
SECONDARY_HORIZONTAL_DATUM: NAD27
XY_ORIGIN: 448183.00000 5302943.00000
SECONDARY_XY_ORIGIN: 448223.14100 5302722.21500
NATION: US
STATE: MT
NW_QUAD_CORNER_XY: 448591.94900 5302635.90500
NE_QUAD_CORNER_XY: 453265.38900 5302596.20200
SE_QUAD_CORNERY_XY: 453209.21500 5295649.81700
SW_QUAD_CORNER_XY: 448530.15700 5295689.52900
SECONDARY_NW_QUAD_XY: 448590.33600 5302417.06300
SECONDARY_NE_QUAD_XY: 453263.92200 5302377.35900
SECONDARY_SE_QUAD_XY: 453207.74800 5295430.99100
SECONDARY_SW_QUAD_XY: 448528.54400 5295470.70400
RMSE_XY: 2.11000
IMAGE_SOURCE: BLACK AND WHITE FILM
SOURCE_IMAGE_ID: NAPP 9105-099
SOURCE_IMAGE_DATE: 1996 8 1
SOURCE_DEM_DATE: 1999 0 0
AGENCY: WESTERN MAPPING CENTER (WMC)
PRODUCER: WOOLPERT LLP
PRODUCTION_SYSTEM: INTERGRAPH ISPM, ISIR
COMPRESSION: UNDEFINED
STANDARD_VERSION: 1996 12
METADATA_DATE: 2001 10 10
DATA_FILE_SIZE: 40948800
BYTE_COUNT: 5388
