FILENAME: O4710510.NES.1164994.tif
QUADRANGLE_NAME: SADIE COULEE
QUADRANT: NE
WEST_LONGITUDE: -105 48 45.00000
EAST_LONGITUDE: -105 45 0.00000
NORTH_LATITUDE: 47 52 30.00000
SOUTH_LATITUDE: 47 48 45.00000
PRODUCTION_DATE: 2001 10 11
RASTER_ORDER: LEFT_RIGHT/TOP_BOTTOM
BAND_ORGANIZATION: SINGLE FILE
BAND_CONTENT: BLACK&WHITE
BAND_CONTENT: UNDEFINED
BAND_CONTENT: UNDEFINED
BITS_PER_PIXEL: 8
SAMPLES_AND_LINES: 5400 7606
HORIZONTAL_DATUM: NAD83
HORIZONTAL_COORDINATE_SYSTEM: UTM
COORDINATE_ZONE: 13
HORIZONTAL_UNITS: meters
HORIZONTAL_RESOLUTION: 1.00000
SECONDARY_HORIZONTAL_DATUM: NAD27
XY_ORIGIN: 438824.00000 5303034.00000
SECONDARY_XY_ORIGIN: 438864.23500 5302813.19800
NATION: US
STATE: MT
NW_QUAD_CORNER_XY: 439245.08800 5302726.65500
NE_QUAD_CORNER_XY: 443918.51500 5302679.39000
SE_QUAD_CORNERY_XY: 443851.10500 5295733.02200
SW_QUAD_CORNER_XY: 439172.06000 5295780.29800
SECONDARY_NW_QUAD_XY: 439243.18100 5302507.81600
SECONDARY_NE_QUAD_XY: 443916.75500 5302460.54900
SECONDARY_SE_QUAD_XY: 443849.34500 5295514.19900
SECONDARY_SW_QUAD_XY: 439170.15300 5295561.47600
RMSE_XY: 1.99000
IMAGE_SOURCE: BLACK AND WHITE FILM
SOURCE_IMAGE_ID: NAPP 9086-173
SOURCE_IMAGE_DATE: 1996 6 13
SOURCE_IMAGE_ID: NAPP 9086-175
SOURCE_IMAGE_DATE: 1996 6 13
SOURCE_IMAGE_ID: NAPP 11001-007
SOURCE_IMAGE_DATE: 1998 7 15
SOURCE_DEM_DATE: 1999 0 0
AGENCY: WESTERN MAPPING CENTER (WMC)
PRODUCER: WOOLPERT LLP
PRODUCTION_SYSTEM: INTERGRAPH ISPM, ISIR
COMPRESSION: UNDEFINED
STANDARD_VERSION: 1996 12
METADATA_DATE: 2001 10 24
DATA_FILE_SIZE: 41077800
BYTE_COUNT: 5400
