FILENAME: O4710508.SES.1133000.tif
QUADRANGLE_NAME: DUPLISSE CREEK NORTH
QUADRANT: SE
WEST_LONGITUDE: -105 3 45.00000
EAST_LONGITUDE: -105 0 0.00000
NORTH_LATITUDE: 47 56 15.00000
SOUTH_LATITUDE: 47 52 30.00000
PRODUCTION_DATE: 2001 3 14
RASTER_ORDER: LEFT_RIGHT/TOP_BOTTOM
BAND_ORGANIZATION: SINGLE FILE
BAND_CONTENT: BLACK&WHITE
BAND_CONTENT: UNDEFINED
BAND_CONTENT: UNDEFINED
BITS_PER_PIXEL: 8
SAMPLES_AND_LINES: 5324 7561
HORIZONTAL_DATUM: NAD83
HORIZONTAL_COORDINATE_SYSTEM: UTM
COORDINATE_ZONE: 13
HORIZONTAL_UNITS: meters
HORIZONTAL_RESOLUTION: 1.00000
SECONDARY_HORIZONTAL_DATUM: NAD27
XY_ORIGIN: 494981.00000 5309663.00000
SECONDARY_XY_ORIGIN: 495020.53800 5309442.13500
NATION: US
STATE: MT
NW_QUAD_CORNER_XY: 495332.15300 5309355.53700
NE_QUAD_CORNER_XY: 500000.00000 5309353.64700
SE_QUAD_CORNERY_XY: 500000.00000 5302407.14500
SW_QUAD_CORNER_XY: 495326.53000 5302409.03600
SECONDARY_NW_QUAD_XY: 495332.00600 5309136.67200
SECONDARY_NE_QUAD_XY: 500000.00000 5309134.78200
SECONDARY_SE_QUAD_XY: 500000.00000 5302188.29600
SECONDARY_SW_QUAD_XY: 495326.38300 5302190.18700
RMSE_XY: 2.21000
IMAGE_SOURCE: BLACK AND WHITE FILM
SOURCE_IMAGE_ID: NAPP 9096-176
SOURCE_IMAGE_DATE: 1996 7 9
SOURCE_DEM_DATE: 1999 0 0
AGENCY: WESTERN MAPPING CENTER (WMC)
PRODUCER: WOOLPERT LLP
PRODUCTION_SYSTEM: INTERGRAPH ISPM, ISIR
COMPRESSION: UNDEFINED
STANDARD_VERSION: 1996 12
METADATA_DATE: 2001 3 15
DATA_FILE_SIZE: 40260088
BYTE_COUNT: 5324
