FILENAME: O4710506.NWS.1139292.tif
QUADRANGLE_NAME: DOWSE COULEE
QUADRANT: NW
WEST_LONGITUDE: -105 22 30.00000
EAST_LONGITUDE: -105 18 45.00000
NORTH_LATITUDE: 48 0 0.00000
SOUTH_LATITUDE: 47 56 15.00000
PRODUCTION_DATE: 2001 4 4
RASTER_ORDER: LEFT_RIGHT/TOP_BOTTOM
BAND_ORGANIZATION: SINGLE FILE
BAND_CONTENT: BLACK&WHITE
BAND_CONTENT: UNDEFINED
BAND_CONTENT: UNDEFINED
BITS_PER_PIXEL: 8
SAMPLES_AND_LINES: 5347 7581
HORIZONTAL_DATUM: NAD83
HORIZONTAL_COORDINATE_SYSTEM: UTM
COORDINATE_ZONE: 13
HORIZONTAL_UNITS: meters
HORIZONTAL_RESOLUTION: 1.00000
SECONDARY_HORIZONTAL_DATUM: NAD27
XY_ORIGIN: 471647.00000 5316676.00000
SECONDARY_XY_ORIGIN: 471686.74800 5316455.03900
NATION: US
STATE: MT
NW_QUAD_CORNER_XY: 472026.70700 5316368.25400
NE_QUAD_CORNER_XY: 476688.91700 5316347.46700
SE_QUAD_CORNERY_XY: 476660.77500 5309400.90000
SW_QUAD_CORNER_XY: 471992.93600 5309421.69200
SECONDARY_NW_QUAD_XY: 472025.82700 5316149.37600
SECONDARY_NE_QUAD_XY: 476688.18400 5316128.58800
SECONDARY_SE_QUAD_XY: 476660.04100 5309182.03600
SECONDARY_SW_QUAD_XY: 471992.05600 5309202.82900
RMSE_XY: 2.44000
IMAGE_SOURCE: BLACK AND WHITE FILM
SOURCE_IMAGE_ID: NAPP 9116-101
SOURCE_IMAGE_DATE: 1996 8 27
SOURCE_IMAGE_ID: NAPP 9116-102
SOURCE_IMAGE_DATE: 1996 8 27
SOURCE_DEM_DATE: 1999 0 0
AGENCY: WESTERN MAPPING CENTER (WMC)
PRODUCER: WOOLPERT LLP
PRODUCTION_SYSTEM: INTERGRAPH ISPM, ISIR
COMPRESSION: UNDEFINED
STANDARD_VERSION: 1996 12
METADATA_DATE: 2001 4 27
DATA_FILE_SIZE: 40540954
BYTE_COUNT: 5347
