FILENAME: O4710503.NES.1139255.tif
QUADRANGLE_NAME: ANTELOPE CREEK RESERVOIR
QUADRANT: NE
WEST_LONGITUDE: -105 41 15.00000
EAST_LONGITUDE: -105 37 30.00000
NORTH_LATITUDE: 48 0 0.00000
SOUTH_LATITUDE: 47 56 15.00000
PRODUCTION_DATE: 2001 4 6
RASTER_ORDER: LEFT_RIGHT/TOP_BOTTOM
BAND_ORGANIZATION: SINGLE FILE
BAND_CONTENT: BLACK&WHITE
BAND_CONTENT: UNDEFINED
BAND_CONTENT: UNDEFINED
BITS_PER_PIXEL: 8
SAMPLES_AND_LINES: 5376 7600
HORIZONTAL_DATUM: NAD83
HORIZONTAL_COORDINATE_SYSTEM: UTM
COORDINATE_ZONE: 13
HORIZONTAL_UNITS: meters
HORIZONTAL_RESOLUTION: 1.00000
SECONDARY_HORIZONTAL_DATUM: NAD27
XY_ORIGIN: 448307.00000 5316837.00000
SECONDARY_XY_ORIGIN: 448347.06900 5316615.89500
NATION: US
STATE: MT
NW_QUAD_CORNER_XY: 448715.71800 5316528.88300
NE_QUAD_CORNER_XY: 453377.90600 5316489.19800
SE_QUAD_CORNERY_XY: 453321.61900 5309542.66300
SW_QUAD_CORNER_XY: 448653.80300 5309582.35700
SECONDARY_NW_QUAD_XY: 448714.10500 5316310.01000
SECONDARY_NE_QUAD_XY: 453376.43900 5316270.32300
SECONDARY_SE_QUAD_XY: 453320.15200 5309323.80300
SECONDARY_SW_QUAD_XY: 448652.18900 5309363.49800
RMSE_XY: 2.41000
IMAGE_SOURCE: BLACK AND WHITE FILM
SOURCE_IMAGE_ID: NAPP 9105-103
SOURCE_IMAGE_DATE: 1996 8 1
SOURCE_IMAGE_ID: NAPP 9105-102
SOURCE_IMAGE_DATE: 1996 8 1
SOURCE_DEM_DATE: 1999 0 0
AGENCY: WESTERN MAPPING CENTER (WMC)
PRODUCER: WOOLPERT LLP
PRODUCTION_SYSTEM: INTERGRAPH ISPM, ISIR
COMPRESSION: UNDEFINED
STANDARD_VERSION: 1996 12
METADATA_DATE: 2001 4 20
DATA_FILE_SIZE: 40862976
BYTE_COUNT: 5376
