FILENAME: O4710503.SWS.1139258.tif
QUADRANGLE_NAME: ANTELOPE CREEK RESERVOIR
QUADRANT: SW
WEST_LONGITUDE: -105 45 0.00000
EAST_LONGITUDE: -105 41 15.00000
NORTH_LATITUDE: 47 56 15.00000
SOUTH_LATITUDE: 47 52 30.00000
PRODUCTION_DATE: 2001 4 6
RASTER_ORDER: LEFT_RIGHT/TOP_BOTTOM
BAND_ORGANIZATION: SINGLE FILE
BAND_CONTENT: BLACK&WHITE
BAND_CONTENT: UNDEFINED
BAND_CONTENT: UNDEFINED
BITS_PER_PIXEL: 8
SAMPLES_AND_LINES: 5388 7603
HORIZONTAL_DATUM: NAD83
HORIZONTAL_COORDINATE_SYSTEM: UTM
COORDINATE_ZONE: 13
HORIZONTAL_UNITS: meters
HORIZONTAL_RESOLUTION: 1.00000
SECONDARY_HORIZONTAL_DATUM: NAD27
XY_ORIGIN: 443571.00000 5309933.00000
SECONDARY_XY_ORIGIN: 443611.16500 5309712.02400
NATION: US
STATE: MT
NW_QUAD_CORNER_XY: 443985.99300 5309625.83100
NE_QUAD_CORNER_XY: 448653.80300 5309582.35700
SE_QUAD_CORNERY_XY: 448591.94900 5302635.90500
SW_QUAD_CORNER_XY: 443918.51500 5302679.39000
SECONDARY_NW_QUAD_XY: 443984.23200 5309406.97500
SECONDARY_NE_QUAD_XY: 448652.18900 5309363.49800
SECONDARY_SE_QUAD_XY: 448590.33600 5302417.06300
SECONDARY_SW_QUAD_XY: 443916.75500 5302460.54900
RMSE_XY: 2.54000
IMAGE_SOURCE: BLACK AND WHITE FILM
SOURCE_IMAGE_ID: NAPP 9086-190
SOURCE_IMAGE_DATE: 1996 6 13
SOURCE_IMAGE_ID: NAPP 9086-176
SOURCE_IMAGE_DATE: 1996 6 13
SOURCE_DEM_DATE: 1999 0 0
AGENCY: WESTERN MAPPING CENTER (WMC)
PRODUCER: WOOLPERT LLP
PRODUCTION_SYSTEM: INTERGRAPH ISPM, ISIR
COMPRESSION: UNDEFINED
STANDARD_VERSION: 1996 12
METADATA_DATE: 2001 4 20
DATA_FILE_SIZE: 40970352
BYTE_COUNT: 5388
