FILENAME: O4710664.NES.1112571.tif
QUADRANGLE_NAME: HEDSTROM LAKE SE
QUADRANT: NE
WEST_LONGITUDE: -106 3 45.00000
EAST_LONGITUDE: -106 0 0.00000
NORTH_LATITUDE: 47 7 30.00000
SOUTH_LATITUDE: 47 3 45.00000
PRODUCTION_DATE: 2000 11 14
RASTER_ORDER: LEFT_RIGHT/TOP_BOTTOM
BAND_ORGANIZATION: SINGLE FILE
BAND_CONTENT: BLACK&WHITE
BAND_CONTENT: UNDEFINED
BAND_CONTENT: UNDEFINED
BITS_PER_PIXEL: 8
SAMPLES_AND_LINES: 5482 7612
HORIZONTAL_DATUM: NAD83
HORIZONTAL_COORDINATE_SYSTEM: UTM
COORDINATE_ZONE: 13
HORIZONTAL_UNITS: METERS
HORIZONTAL_RESOLUTION: 1.00000
SECONDARY_HORIZONTAL_DATUM: NAD27
XY_ORIGIN: 418972.00000 5219904.00000
SECONDARY_XY_ORIGIN: 419013.50900 5219684.64800
NATION: US
NATION: "SCIENCE
STATE: MT
NW_QUAD_CORNER_XY: 419411.74600 5219602.68100
NE_QUAD_CORNER_XY: 424152.19600 5219540.14700
SE_QUAD_CORNERY_XY: 424063.39600 5212594.71000
SW_QUAD_CORNER_XY: 419317.39600 5212657.25400
SECONDARY_NW_QUAD_XY: 419409.25600 5219384.10800
SECONDARY_NE_QUAD_XY: 424149.85200 5219321.57200
SECONDARY_SE_QUAD_XY: 424061.05300 5212376.16300
SECONDARY_SW_QUAD_XY: 419314.90600 5212438.70900
RMSE_XY: 2.00000
IMAGE_SOURCE: BLACK AND WHITE FILM
SOURCE_IMAGE_ID: NAPP 9089 070
SOURCE_IMAGE_DATE: 1996 07 07
SOURCE_IMAGE_ID: NAPP 9089 069
SOURCE_IMAGE_DATE: 1996 07 07
SOURCE_DEM_DATE: 1993 00 00
AGENCY: WESTERN MAPPING CENTER (WMC)
PRODUCER: UNDEFINED
PRODUCTION_SYSTEM: GIS/MAGIC
COMPRESSION: UNDEFINED
STANDARD_VERSION: 1996 12
METADATA_DATE: 2000 11 16
DATA_FILE_SIZE: 41734466
BYTE_COUNT: 5482
