FILENAME: O4710663.NES.1112471.tif
QUADRANGLE_NAME: TREE COULEE SCHOOL
QUADRANT: NE
WEST_LONGITUDE: -106 11 15.00000
EAST_LONGITUDE: -106 7 30.00000
NORTH_LATITUDE: 47 7 30.00000
SOUTH_LATITUDE: 47 3 45.00000
PRODUCTION_DATE: 2000 11 14
RASTER_ORDER: LEFT_RIGHT/TOP_BOTTOM
BAND_ORGANIZATION: SINGLE FILE
BAND_CONTENT: BLACK&WHITE
BAND_CONTENT: UNDEFINED
BAND_CONTENT: UNDEFINED
BITS_PER_PIXEL: 8
SAMPLES_AND_LINES: 5493 7619
HORIZONTAL_DATUM: NAD83
HORIZONTAL_COORDINATE_SYSTEM: UTM
COORDINATE_ZONE: 13
HORIZONTAL_UNITS: METERS
HORIZONTAL_RESOLUTION: 1.00000
SECONDARY_HORIZONTAL_DATUM: NAD27
XY_ORIGIN: 409480.00000 5220040.00000
SECONDARY_XY_ORIGIN: 409521.58900 5219820.79200
NATION: US
NATION: "SCIENCE
STATE: MT
NW_QUAD_CORNER_XY: 409930.86900 5219739.12200
NE_QUAD_CORNER_XY: 414671.30400 5219669.00600
SE_QUAD_CORNERY_XY: 414571.40200 5212723.58900
SW_QUAD_CORNER_XY: 409825.41600 5212793.71600
SECONDARY_NW_QUAD_XY: 409928.08600 5219520.55300
SECONDARY_NE_QUAD_XY: 414668.66700 5219450.43500
SECONDARY_SE_QUAD_XY: 414568.76600 5212505.04600
SECONDARY_SW_QUAD_XY: 409822.63300 5212575.17500
RMSE_XY: 1.00000
IMAGE_SOURCE: BLACK AND WHITE FILM
SOURCE_IMAGE_ID: NAPP 9106 046
SOURCE_IMAGE_DATE: 1996 08 07
SOURCE_DEM_DATE: 1964 00 00
AGENCY: WESTERN MAPPING CENTER (WMC)
PRODUCER: UNDEFINED
PRODUCTION_SYSTEM: GIS/MAGIC
COMPRESSION: UNDEFINED
STANDARD_VERSION: 1996 12
METADATA_DATE: 2000 11 16
DATA_FILE_SIZE: 41856660
BYTE_COUNT: 5493
