FILENAME: O4710662.SWS.1112438.tif
QUADRANGLE_NAME: SLEEPY HOLLOW
QUADRANT: SW
WEST_LONGITUDE: -106 22 30.00000
EAST_LONGITUDE: -106 18 45.00000
NORTH_LATITUDE: 47 3 45.00000
SOUTH_LATITUDE: 47 0 0.00000
PRODUCTION_DATE: 2000 11 13
RASTER_ORDER: LEFT_RIGHT/TOP_BOTTOM
BAND_ORGANIZATION: SINGLE FILE
BAND_CONTENT: BLACK&WHITE
BAND_CONTENT: UNDEFINED
BAND_CONTENT: UNDEFINED
BITS_PER_PIXEL: 8
SAMPLES_AND_LINES: 5516 7630
HORIZONTAL_DATUM: NAD83
HORIZONTAL_COORDINATE_SYSTEM: UTM
COORDINATE_ZONE: 13
HORIZONTAL_UNITS: METERS
HORIZONTAL_RESOLUTION: 1.00000
SECONDARY_HORIZONTAL_DATUM: NAD27
XY_ORIGIN: 395119.00000 5213328.00000
SECONDARY_XY_ORIGIN: 395160.65000 5213108.75800
NATION: US
NATION: "SCIENCE
STATE: MT
NW_QUAD_CORNER_XY: 395587.50300 5213026.84700
NE_QUAD_CORNER_XY: 400333.46600 5212945.34500
SE_QUAD_CORNERY_XY: 400217.02800 5206000.03500
SW_QUAD_CORNER_XY: 395465.51900 5206081.54900
SECONDARY_NW_QUAD_XY: 395584.28100 5212808.31300
SECONDARY_NE_QUAD_XY: 400330.39000 5212726.80800
SECONDARY_SE_QUAD_XY: 400213.95300 5205781.52600
SECONDARY_SW_QUAD_XY: 395462.29800 5205863.04300
RMSE_XY: 2.00000
IMAGE_SOURCE: BLACK AND WHITE FILM
SOURCE_IMAGE_ID: NAPP 9106 187
SOURCE_IMAGE_DATE: 1996 08 07
SOURCE_DEM_DATE: 1993 00 00
AGENCY: WESTERN MAPPING CENTER (WMC)
PRODUCER: UNDEFINED
PRODUCTION_SYSTEM: GIS/MAGIC
COMPRESSION: UNDEFINED
STANDARD_VERSION: 1996 12
METADATA_DATE: 2000 11 16
DATA_FILE_SIZE: 42092596
BYTE_COUNT: 5516
