FILENAME: O4710661.SES.1112409.tif
QUADRANGLE_NAME: CALAMITY COULEE
QUADRANT: SE
WEST_LONGITUDE: -106 26 15.00000
EAST_LONGITUDE: -106 22 30.00000
NORTH_LATITUDE: 47 3 45.00000
SOUTH_LATITUDE: 47 0 0.00000
PRODUCTION_DATE: 2000 11 13
RASTER_ORDER: LEFT_RIGHT/TOP_BOTTOM
BAND_ORGANIZATION: SINGLE FILE
BAND_CONTENT: BLACK&WHITE
BAND_CONTENT: UNDEFINED
BAND_CONTENT: UNDEFINED
BITS_PER_PIXEL: 8
SAMPLES_AND_LINES: 5522 7634
HORIZONTAL_DATUM: NAD83
HORIZONTAL_COORDINATE_SYSTEM: UTM
COORDINATE_ZONE: 13
HORIZONTAL_UNITS: METERS
HORIZONTAL_RESOLUTION: 1.00000
SECONDARY_HORIZONTAL_DATUM: NAD27
XY_ORIGIN: 390367.00000 5213413.00000
SECONDARY_XY_ORIGIN: 390408.65400 5213193.74100
NATION: US
NATION: "SCIENCE
STATE: MT
NW_QUAD_CORNER_XY: 390841.55000 5213112.14100
NE_QUAD_CORNER_XY: 395587.50300 5213026.84700
SE_QUAD_CORNERY_XY: 395465.51900 5206081.54900
SW_QUAD_CORNER_XY: 390714.01900 5206166.85700
SECONDARY_NW_QUAD_XY: 390838.18100 5212893.61000
SECONDARY_NE_QUAD_XY: 395584.28100 5212808.31300
SECONDARY_SE_QUAD_XY: 395462.29800 5205863.04300
SECONDARY_SW_QUAD_XY: 390710.65100 5205948.35300
RMSE_XY: 1.70000
IMAGE_SOURCE: BLACK AND WHITE FILM
SOURCE_IMAGE_ID: NAPP 9106 271
SOURCE_IMAGE_DATE: 1996 08 07
SOURCE_DEM_DATE: 1993 00 00
AGENCY: WESTERN MAPPING CENTER (WMC)
PRODUCER: UNDEFINED
PRODUCTION_SYSTEM: GIS/MAGIC
COMPRESSION: UNDEFINED
STANDARD_VERSION: 1996 12
METADATA_DATE: 2000 11 16
DATA_FILE_SIZE: 42160470
BYTE_COUNT: 5522
