FILENAME: O4710660.NES.1112371.tif
QUADRANGLE_NAME: COHAGEN
QUADRANT: NE
WEST_LONGITUDE: -106 33 45.00000
EAST_LONGITUDE: -106 30 0.00000
NORTH_LATITUDE: 47 7 30.00000
SOUTH_LATITUDE: 47 3 45.00000
PRODUCTION_DATE: 2000 11 14
RASTER_ORDER: LEFT_RIGHT/TOP_BOTTOM
BAND_ORGANIZATION: SINGLE FILE
BAND_CONTENT: BLACK&WHITE
BAND_CONTENT: UNDEFINED
BAND_CONTENT: UNDEFINED
BITS_PER_PIXEL: 8
SAMPLES_AND_LINES: 5527 7642
HORIZONTAL_DATUM: NAD83
HORIZONTAL_COORDINATE_SYSTEM: UTM
COORDINATE_ZONE: 13
HORIZONTAL_UNITS: METERS
HORIZONTAL_RESOLUTION: 1.00000
SECONDARY_HORIZONTAL_DATUM: NAD27
XY_ORIGIN: 381003.00000 5220541.00000
SECONDARY_XY_ORIGIN: 381044.79000 5220321.73500
NATION: US
NATION: "SCIENCE
STATE: MT
NW_QUAD_CORNER_XY: 381488.43700 5220239.43400
NE_QUAD_CORNER_XY: 386228.81900 5220146.56900
SE_QUAD_CORNERY_XY: 386095.60500 5213201.22800
SW_QUAD_CORNER_XY: 381349.67000 5213294.10700
SECONDARY_NW_QUAD_XY: 381484.77500 5220020.88100
SECONDARY_NE_QUAD_XY: 386225.30400 5219928.01400
SECONDARY_SE_QUAD_XY: 386092.09000 5212982.69900
SECONDARY_SW_QUAD_XY: 381346.00900 5213075.58100
RMSE_XY: 1.70000
IMAGE_SOURCE: BLACK AND WHITE FILM
SOURCE_IMAGE_ID: NAPP 9110 077
SOURCE_IMAGE_DATE: 1996 08 11
SOURCE_DEM_DATE: 1993 00 00
AGENCY: WESTERN MAPPING CENTER (WMC)
PRODUCER: UNDEFINED
PRODUCTION_SYSTEM: GIS/MAGIC
COMPRESSION: UNDEFINED
STANDARD_VERSION: 1996 12
METADATA_DATE: 2000 11 16
DATA_FILE_SIZE: 42242861
BYTE_COUNT: 5527
