FILENAME: O4710659.NES.1112310.tif
QUADRANGLE_NAME: COHAGEN SW
QUADRANT: NE
WEST_LONGITUDE: -106 41 15.00000
EAST_LONGITUDE: -106 37 30.00000
NORTH_LATITUDE: 47 7 30.00000
SOUTH_LATITUDE: 47 3 45.00000
PRODUCTION_DATE: 2000 11 14
RASTER_ORDER: LEFT_RIGHT/TOP_BOTTOM
BAND_ORGANIZATION: SINGLE FILE
BAND_CONTENT: BLACK&WHITE
BAND_CONTENT: UNDEFINED
BAND_CONTENT: UNDEFINED
BITS_PER_PIXEL: 8
SAMPLES_AND_LINES: 5540 7650
HORIZONTAL_DATUM: NAD83
HORIZONTAL_COORDINATE_SYSTEM: UTM
COORDINATE_ZONE: 13
HORIZONTAL_UNITS: METERS
HORIZONTAL_RESOLUTION: 1.00000
SECONDARY_HORIZONTAL_DATUM: NAD27
XY_ORIGIN: 371510.00000 5220738.00000
SECONDARY_XY_ORIGIN: 371552.04300 5220518.62300
NATION: US
NATION: "SCIENCE
STATE: MT
NW_QUAD_CORNER_XY: 372007.70500 5220436.53900
NE_QUAD_CORNER_XY: 376748.06600 5220336.09100
SE_QUAD_CORNERY_XY: 376603.74500 5213390.77900
SW_QUAD_CORNER_XY: 371857.83100 5213491.24300
SECONDARY_NW_QUAD_XY: 372003.75000 5220217.99300
SECONDARY_NE_QUAD_XY: 376744.25700 5220117.54000
SECONDARY_SE_QUAD_XY: 376599.93700 5213172.25600
SECONDARY_SW_QUAD_XY: 371853.87600 5213272.72300
RMSE_XY: 1.80000
IMAGE_SOURCE: BLACK AND WHITE FILM
SOURCE_IMAGE_ID: NAPP 9111 095
SOURCE_IMAGE_DATE: 1996 08 11
SOURCE_DEM_DATE: 1993 00 00
AGENCY: WESTERN MAPPING CENTER (WMC)
PRODUCER: UNDEFINED
PRODUCTION_SYSTEM: GIS/MAGIC
COMPRESSION: UNDEFINED
STANDARD_VERSION: 1996 12
METADATA_DATE: 2000 11 17
DATA_FILE_SIZE: 42386540
BYTE_COUNT: 5540
