FILENAME: O4710658.NES.1112274.tif
QUADRANGLE_NAME: DICE DAM
QUADRANT: NE
WEST_LONGITUDE: -106 48 45.00000
EAST_LONGITUDE: -106 45 0.00000
NORTH_LATITUDE: 47 7 30.00000
SOUTH_LATITUDE: 47 3 45.00000
PRODUCTION_DATE: 2000 11 14
RASTER_ORDER: LEFT_RIGHT/TOP_BOTTOM
BAND_ORGANIZATION: SINGLE FILE
BAND_CONTENT: BLACK&WHITE
BAND_CONTENT: UNDEFINED
BAND_CONTENT: UNDEFINED
BITS_PER_PIXEL: 8
SAMPLES_AND_LINES: 5551 7657
HORIZONTAL_DATUM: NAD83
HORIZONTAL_COORDINATE_SYSTEM: UTM
COORDINATE_ZONE: 13
HORIZONTAL_UNITS: METERS
HORIZONTAL_RESOLUTION: 1.00000
SECONDARY_HORIZONTAL_DATUM: NAD27
XY_ORIGIN: 362018.00000 5220950.00000
SECONDARY_XY_ORIGIN: 362060.30000 5220730.51500
NATION: US
NATION: "SCIENCE
STATE: MT
NW_QUAD_CORNER_XY: 362527.01700 5220648.81500
NE_QUAD_CORNER_XY: 367267.35500 5220540.78100
SE_QUAD_CORNERY_XY: 367111.92700 5213595.50100
SW_QUAD_CORNER_XY: 362366.03500 5213703.55200
SECONDARY_NW_QUAD_XY: 362522.76900 5220430.27500
SECONDARY_NE_QUAD_XY: 367263.25400 5220322.23700
SECONDARY_SE_QUAD_XY: 367107.82600 5213376.98400
SECONDARY_SW_QUAD_XY: 362361.78700 5213485.03900
RMSE_XY: 1.40000
IMAGE_SOURCE: BLACK AND WHITE FILM
SOURCE_IMAGE_ID: NAPP 9109 031
SOURCE_IMAGE_DATE: 1996 08 11
SOURCE_IMAGE_ID: NAPP 9111 221
SOURCE_IMAGE_DATE: 1996 08 11
SOURCE_DEM_DATE: 1964 00 00
AGENCY: WESTERN MAPPING CENTER (WMC)
PRODUCER: UNDEFINED
PRODUCTION_SYSTEM: GIS/MAGIC
COMPRESSION: UNDEFINED
STANDARD_VERSION: 1996 12
METADATA_DATE: 2000 11 17
DATA_FILE_SIZE: 42509558
BYTE_COUNT: 5551
