FILENAME: O4710656.NWS.1112584.tif
QUADRANGLE_NAME: HEDSTROM LAKE
QUADRANT: NW
WEST_LONGITUDE: -106 7 30.00000
EAST_LONGITUDE: -106 3 45.00000
NORTH_LATITUDE: 47 15 0.00000
SOUTH_LATITUDE: 47 11 15.00000
PRODUCTION_DATE: 2000 11 14
RASTER_ORDER: LEFT_RIGHT/TOP_BOTTOM
BAND_ORGANIZATION: SINGLE FILE
BAND_CONTENT: BLACK&WHITE
BAND_CONTENT: UNDEFINED
BAND_CONTENT: UNDEFINED
BITS_PER_PIXEL: 8
SAMPLES_AND_LINES: 5476 7615
HORIZONTAL_DATUM: NAD83
HORIZONTAL_COORDINATE_SYSTEM: UTM
COORDINATE_ZONE: 13
HORIZONTAL_UNITS: METERS
HORIZONTAL_RESOLUTION: 1.00000
SECONDARY_HORIZONTAL_DATUM: NAD27
XY_ORIGIN: 414426.00000 5233861.00000
SECONDARY_XY_ORIGIN: 414467.47100 5233641.82300
NATION: US
NATION: "SCIENCE
STATE: MT
NW_QUAD_CORNER_XY: 414871.41400 5233560.05900
NE_QUAD_CORNER_XY: 419600.73700 5233493.75600
SE_QUAD_CORNERY_XY: 419506.19300 5226548.18200
SW_QUAD_CORNER_XY: 414771.30800 5226614.49600
SECONDARY_NW_QUAD_XY: 414868.77700 5233341.43600
SECONDARY_NE_QUAD_XY: 419598.24600 5233275.13100
SECONDARY_SE_QUAD_XY: 419503.70300 5226329.58300
SECONDARY_SW_QUAD_XY: 414768.67100 5226395.89900
RMSE_XY: 1.30000
IMAGE_SOURCE: BLACK AND WHITE FILM
SOURCE_IMAGE_ID: NAPP 9090 033
SOURCE_IMAGE_DATE: 1996 07 07
SOURCE_IMAGE_ID: NAPP 9089 074
SOURCE_IMAGE_DATE: 1996 07 07
SOURCE_DEM_DATE: 1993 00 00
AGENCY: WESTERN MAPPING CENTER (WMC)
PRODUCER: UNDEFINED
PRODUCTION_SYSTEM: GIS/MAGIC
COMPRESSION: UNDEFINED
STANDARD_VERSION: 1996 12
METADATA_DATE: 2000 11 16
DATA_FILE_SIZE: 41705216
BYTE_COUNT: 5476
