FILENAME: O4710655.NWS.1112484.tif
QUADRANGLE_NAME: HEDSTROM LAKE NW
QUADRANT: NW
WEST_LONGITUDE: -106 15 0.00000
EAST_LONGITUDE: -106 11 15.00000
NORTH_LATITUDE: 47 15 0.00000
SOUTH_LATITUDE: 47 11 15.00000
PRODUCTION_DATE: 2000 11 14
RASTER_ORDER: LEFT_RIGHT/TOP_BOTTOM
BAND_ORGANIZATION: SINGLE FILE
BAND_CONTENT: BLACK&WHITE
BAND_CONTENT: UNDEFINED
BAND_CONTENT: UNDEFINED
BITS_PER_PIXEL: 8
SAMPLES_AND_LINES: 5488 7623
HORIZONTAL_DATUM: NAD83
HORIZONTAL_COORDINATE_SYSTEM: UTM
COORDINATE_ZONE: 13
HORIZONTAL_UNITS: METERS
HORIZONTAL_RESOLUTION: 1.00000
SECONDARY_HORIZONTAL_DATUM: NAD27
XY_ORIGIN: 404956.00000 5234005.00000
SECONDARY_XY_ORIGIN: 404997.60300 5233786.00000
NATION: US
NATION: "SCIENCE
STATE: MT
NW_QUAD_CORNER_XY: 405412.79300 5233704.03400
NE_QUAD_CORNER_XY: 410142.09900 5233630.15200
SE_QUAD_CORNERY_XY: 410036.43000 5226684.60000
SW_QUAD_CORNER_XY: 405301.56000 5226758.49500
SECONDARY_NW_QUAD_XY: 405409.86200 5233485.41600
SECONDARY_NE_QUAD_XY: 410139.31500 5233411.53100
SECONDARY_SE_QUAD_XY: 410033.64700 5226466.00600
SECONDARY_SW_QUAD_XY: 405298.63000 5226539.90300
RMSE_XY: 2.20000
IMAGE_SOURCE: BLACK AND WHITE FILM
SOURCE_IMAGE_ID: NAPP 10723 067
SOURCE_IMAGE_DATE: 1997 08 28
SOURCE_IMAGE_ID: NAPP 9106 146
SOURCE_IMAGE_DATE: 1996 08 07
SOURCE_IMAGE_ID: NAPP 9106 147
SOURCE_IMAGE_DATE: 1996 08 07
SOURCE_DEM_DATE: 1993 00 00
AGENCY: WESTERN MAPPING CENTER (WMC)
PRODUCER: UNDEFINED
PRODUCTION_SYSTEM: GIS/MAGIC
COMPRESSION: UNDEFINED
STANDARD_VERSION: 1996 12
METADATA_DATE: 2000 11 16
DATA_FILE_SIZE: 41840512
BYTE_COUNT: 5488
