FILENAME: O4710655.SES.1112485.tif
QUADRANGLE_NAME: HEDSTROM LAKE NW
QUADRANT: SE
WEST_LONGITUDE: -106 11 15.00000
EAST_LONGITUDE: -106 7 30.00000
NORTH_LATITUDE: 47 11 15.00000
SOUTH_LATITUDE: 47 7 30.00000
PRODUCTION_DATE: 2000 11 14
RASTER_ORDER: LEFT_RIGHT/TOP_BOTTOM
BAND_ORGANIZATION: SINGLE FILE
BAND_CONTENT: BLACK&WHITE
BAND_CONTENT: UNDEFINED
BAND_CONTENT: UNDEFINED
BITS_PER_PIXEL: 8
SAMPLES_AND_LINES: 5488 7619
HORIZONTAL_DATUM: NAD83
HORIZONTAL_COORDINATE_SYSTEM: UTM
COORDINATE_ZONE: 13
HORIZONTAL_UNITS: METERS
HORIZONTAL_RESOLUTION: 1.00000
SECONDARY_HORIZONTAL_DATUM: NAD27
XY_ORIGIN: 409585.00000 5226986.00000
SECONDARY_XY_ORIGIN: 409626.56300 5226766.85100
NATION: US
NATION: "SCIENCE
STATE: MT
NW_QUAD_CORNER_XY: 410036.43000 5226684.60000
NE_QUAD_CORNER_XY: 414771.30800 5226614.49600
SE_QUAD_CORNERY_XY: 414671.30400 5219669.00600
SW_QUAD_CORNER_XY: 409930.86900 5219739.12200
SECONDARY_NW_QUAD_XY: 410033.64700 5226466.00600
SECONDARY_NE_QUAD_XY: 414768.67100 5226395.89900
SECONDARY_SE_QUAD_XY: 414668.66700 5219450.43500
SECONDARY_SW_QUAD_XY: 409928.08600 5219520.55300
RMSE_XY: 1.90000
IMAGE_SOURCE: BLACK AND WHITE FILM
SOURCE_IMAGE_ID: NAPP 9121 016
SOURCE_IMAGE_DATE: 1996 09 06
SOURCE_DEM_DATE: 1993 00 00
AGENCY: WESTERN MAPPING CENTER (WMC)
PRODUCER: UNDEFINED
PRODUCTION_SYSTEM: GIS/MAGIC
COMPRESSION: UNDEFINED
STANDARD_VERSION: 1996 12
METADATA_DATE: 2000 11 16
DATA_FILE_SIZE: 41818560
BYTE_COUNT: 5488
