FILENAME: O4710653.NES.1112403.tif
QUADRANGLE_NAME: HAFLA SCHOOL
QUADRANT: NE
WEST_LONGITUDE: -106 26 15.00000
EAST_LONGITUDE: -106 22 30.00000
NORTH_LATITUDE: 47 15 0.00000
SOUTH_LATITUDE: 47 11 15.00000
PRODUCTION_DATE: 2000 11 13
RASTER_ORDER: LEFT_RIGHT/TOP_BOTTOM
BAND_ORGANIZATION: SINGLE FILE
BAND_CONTENT: BLACK&WHITE
BAND_CONTENT: UNDEFINED
BAND_CONTENT: UNDEFINED
BITS_PER_PIXEL: 8
SAMPLES_AND_LINES: 5506 7634
HORIZONTAL_DATUM: NAD83
HORIZONTAL_COORDINATE_SYSTEM: UTM
COORDINATE_ZONE: 13
HORIZONTAL_UNITS: METERS
HORIZONTAL_RESOLUTION: 1.00000
SECONDARY_HORIZONTAL_DATUM: NAD27
XY_ORIGIN: 390750.00000 5234249.00000
SECONDARY_XY_ORIGIN: 390791.63200 5234029.93500
NATION: US
NATION: "SCIENCE
STATE: MT
NW_QUAD_CORNER_XY: 391224.92600 5233948.42200
NE_QUAD_CORNER_XY: 395954.20600 5233863.16900
SE_QUAD_CORNERY_XY: 395831.84700 5226917.65700
SW_QUAD_CORNER_XY: 391097.00300 5227002.92400
SECONDARY_NW_QUAD_XY: 391221.55600 5233729.81200
SECONDARY_NE_QUAD_XY: 395950.98200 5233644.55600
SECONDARY_SE_QUAD_XY: 395828.62300 5226699.06900
SECONDARY_SW_QUAD_XY: 391093.63400 5226784.33900
RMSE_XY: 2.60000
IMAGE_SOURCE: BLACK AND WHITE FILM
SOURCE_IMAGE_ID: NAPP 9109 159
SOURCE_IMAGE_DATE: 1996 08 11
SOURCE_IMAGE_ID: NAPP 9109 161
SOURCE_IMAGE_DATE: 1996 08 11
SOURCE_DEM_DATE: 1993 00 00
AGENCY: WESTERN MAPPING CENTER (WMC)
PRODUCER: UNDEFINED
PRODUCTION_SYSTEM: GIS/MAGIC
COMPRESSION: UNDEFINED
STANDARD_VERSION: 1996 12
METADATA_DATE: 2000 11 16
DATA_FILE_SIZE: 42038310
BYTE_COUNT: 5506
