FILENAME: O4710653.NWS.1112404.tif
QUADRANGLE_NAME: HAFLA SCHOOL
QUADRANT: NW
WEST_LONGITUDE: -106 30 0.00000
EAST_LONGITUDE: -106 26 15.00000
NORTH_LATITUDE: 47 15 0.00000
SOUTH_LATITUDE: 47 11 15.00000
PRODUCTION_DATE: 2000 11 13
RASTER_ORDER: LEFT_RIGHT/TOP_BOTTOM
BAND_ORGANIZATION: SINGLE FILE
BAND_CONTENT: BLACK&WHITE
BAND_CONTENT: UNDEFINED
BAND_CONTENT: UNDEFINED
BITS_PER_PIXEL: 8
SAMPLES_AND_LINES: 5510 7638
HORIZONTAL_DATUM: NAD83
HORIZONTAL_COORDINATE_SYSTEM: UTM
COORDINATE_ZONE: 13
HORIZONTAL_UNITS: METERS
HORIZONTAL_RESOLUTION: 1.00000
SECONDARY_HORIZONTAL_DATUM: NAD27
XY_ORIGIN: 386016.00000 5234338.00000
SECONDARY_XY_ORIGIN: 386057.64200 5234118.91500
NATION: US
NATION: "SCIENCE
STATE: MT
NW_QUAD_CORNER_XY: 386495.65700 5234037.46600
NE_QUAD_CORNER_XY: 391224.92600 5233948.42200
SE_QUAD_CORNERY_XY: 391097.00300 5227002.92400
SW_QUAD_CORNER_XY: 386362.17000 5227091.98200
SECONDARY_NW_QUAD_XY: 386492.14000 5233818.85800
SECONDARY_NE_QUAD_XY: 391221.55600 5233729.81200
SECONDARY_SE_QUAD_XY: 391093.63400 5226784.33900
SECONDARY_SW_QUAD_XY: 386358.65400 5226873.40000
RMSE_XY: 1.50000
IMAGE_SOURCE: BLACK AND WHITE FILM
SOURCE_IMAGE_ID: NAPP 9109 152
SOURCE_IMAGE_DATE: 1996 08 11
SOURCE_DEM_DATE: 1993 00 00
AGENCY: WESTERN MAPPING CENTER (WMC)
PRODUCER: UNDEFINED
PRODUCTION_SYSTEM: GIS/MAGIC
COMPRESSION: UNDEFINED
STANDARD_VERSION: 1996 12
METADATA_DATE: 2000 11 16
DATA_FILE_SIZE: 42090890
BYTE_COUNT: 5510
