FILENAME: O4710650.NES.1112270.tif
QUADRANGLE_NAME: KIRBY RANCH
QUADRANT: NE
WEST_LONGITUDE: -106 48 45.00000
EAST_LONGITUDE: -106 45 0.00000
NORTH_LATITUDE: 47 15 0.00000
SOUTH_LATITUDE: 47 11 15.00000
PRODUCTION_DATE: 2000 11 13
RASTER_ORDER: LEFT_RIGHT/TOP_BOTTOM
BAND_ORGANIZATION: SINGLE FILE
BAND_CONTENT: BLACK&WHITE
BAND_CONTENT: UNDEFINED
BAND_CONTENT: UNDEFINED
BITS_PER_PIXEL: 8
SAMPLES_AND_LINES: 5540 7657
HORIZONTAL_DATUM: NAD83
HORIZONTAL_COORDINATE_SYSTEM: UTM
COORDINATE_ZONE: 13
HORIZONTAL_UNITS: METERS
HORIZONTAL_RESOLUTION: 1.00000
SECONDARY_HORIZONTAL_DATUM: NAD27
XY_ORIGIN: 362340.00000 5234841.00000
SECONDARY_XY_ORIGIN: 362382.31700 5234621.42200
NATION: US
NATION: "SCIENCE
STATE: MT
NW_QUAD_CORNER_XY: 362849.47600 5234539.54700
NE_QUAD_CORNER_XY: 367578.68900 5234431.54800
SE_QUAD_CORNERY_XY: 367422.94200 5227486.13000
SW_QUAD_CORNER_XY: 362688.16400 5227594.14700
SECONDARY_NW_QUAD_XY: 362845.22700 5234320.95500
SECONDARY_NE_QUAD_XY: 367574.58600 5234212.95300
SECONDARY_SE_QUAD_XY: 367418.84000 5227267.56000
SECONDARY_SW_QUAD_XY: 362683.91500 5227375.58000
RMSE_XY: 2.10000
IMAGE_SOURCE: BLACK AND WHITE FILM
SOURCE_IMAGE_ID: NAPP 9109 035
SOURCE_IMAGE_DATE: 1996 08 11
SOURCE_IMAGE_ID: NAPP 10764 012
SOURCE_IMAGE_DATE: 1997 09 20
SOURCE_IMAGE_ID: NAPP 9109 034
SOURCE_IMAGE_DATE: 1996 08 11
SOURCE_DEM_DATE: 1993 00 00
AGENCY: WESTERN MAPPING CENTER (WMC)
PRODUCER: UNDEFINED
PRODUCTION_SYSTEM: GIS/MAGIC
COMPRESSION: UNDEFINED
STANDARD_VERSION: 1996 12
METADATA_DATE: 2000 11 17
DATA_FILE_SIZE: 42425320
BYTE_COUNT: 5540
