FILENAME: O4710649.SES.1112236.tif
QUADRANGLE_NAME: DARBY BUTTES
QUADRANT: SE
WEST_LONGITUDE: -106 56 15.00000
EAST_LONGITUDE: -106 52 30.00000
NORTH_LATITUDE: 47 11 15.00000
SOUTH_LATITUDE: 47 7 30.00000
PRODUCTION_DATE: 2000 11 16
RASTER_ORDER: LEFT_RIGHT/TOP_BOTTOM
BAND_ORGANIZATION: SINGLE FILE
BAND_CONTENT: BLACK&WHITE
BAND_CONTENT: UNDEFINED
BAND_CONTENT: UNDEFINED
BITS_PER_PIXEL: 8
SAMPLES_AND_LINES: 5557 7665
HORIZONTAL_DATUM: NAD83
HORIZONTAL_COORDINATE_SYSTEM: UTM
COORDINATE_ZONE: 13
HORIZONTAL_UNITS: METERS
HORIZONTAL_RESOLUTION: 1.00000
SECONDARY_HORIZONTAL_DATUM: NAD27
XY_ORIGIN: 352698.00000 5228123.00000
SECONDARY_XY_ORIGIN: 352740.57100 5227903.33400
NATION: US
NATION: "SCIENCE
STATE: MT
NW_QUAD_CORNER_XY: 353218.64500 5227821.55700
NE_QUAD_CORNER_XY: 357953.39800 5227705.95600
SE_QUAD_CORNERY_XY: 357786.69100 5220760.64200
SW_QUAD_CORNER_XY: 353046.37700 5220876.26300
SECONDARY_NW_QUAD_XY: 353214.10300 5227602.99800
SECONDARY_NE_QUAD_XY: 357949.00300 5227487.39200
SECONDARY_SE_QUAD_XY: 357782.29600 5220542.10500
SECONDARY_SW_QUAD_XY: 353041.83600 5220657.72900
RMSE_XY: 1.80000
IMAGE_SOURCE: BLACK AND WHITE FILM
SOURCE_IMAGE_ID: NAPP 10764 026
SOURCE_IMAGE_DATE: 1997 09 20
SOURCE_DEM_DATE: 1964 00 00
AGENCY: WESTERN MAPPING CENTER (WMC)
PRODUCER: UNDEFINED
PRODUCTION_SYSTEM: GIS/MAGIC
COMPRESSION: UNDEFINED
STANDARD_VERSION: 1996 12
METADATA_DATE: 2000 11 17
DATA_FILE_SIZE: 42599962
BYTE_COUNT: 5557
