FILENAME: O4710647.SWS.1112482.tif
QUADRANGLE_NAME: FLOWING WELL
QUADRANT: SW
WEST_LONGITUDE: -106 15 0.00000
EAST_LONGITUDE: -106 11 15.00000
NORTH_LATITUDE: 47 18 45.00000
SOUTH_LATITUDE: 47 15 0.00000
PRODUCTION_DATE: 2000 11 14
RASTER_ORDER: LEFT_RIGHT/TOP_BOTTOM
BAND_ORGANIZATION: SINGLE FILE
BAND_CONTENT: BLACK&WHITE
BAND_CONTENT: UNDEFINED
BAND_CONTENT: UNDEFINED
BITS_PER_PIXEL: 8
SAMPLES_AND_LINES: 5482 7623
HORIZONTAL_DATUM: NAD83
HORIZONTAL_COORDINATE_SYSTEM: UTM
COORDINATE_ZONE: 13
HORIZONTAL_UNITS: METERS
HORIZONTAL_RESOLUTION: 1.00000
SECONDARY_HORIZONTAL_DATUM: NAD27
XY_ORIGIN: 405067.00000 5240951.00000
SECONDARY_XY_ORIGIN: 405108.48500 5240731.90100
NATION: US
NATION: "SCIENCE
STATE: MT
NW_QUAD_CORNER_XY: 405524.13800 5240649.64600
NE_QUAD_CORNER_XY: 410247.87600 5240575.77600
SE_QUAD_CORNERY_XY: 410142.09900 5233630.15200
SW_QUAD_CORNER_XY: 405412.79300 5233704.03400
SECONDARY_NW_QUAD_XY: 405521.20700 5240431.00300
SECONDARY_NE_QUAD_XY: 410245.09200 5240357.13100
SECONDARY_SE_QUAD_XY: 410139.31500 5233411.53100
SECONDARY_SW_QUAD_XY: 405409.86200 5233485.41600
RMSE_XY: 1.40000
IMAGE_SOURCE: BLACK AND WHITE FILM
SOURCE_IMAGE_ID: NAPP 9121 013
SOURCE_IMAGE_DATE: 1996 09 06
SOURCE_IMAGE_ID: NAPP 9106 147
SOURCE_IMAGE_DATE: 1996 08 07
SOURCE_IMAGE_ID: NAPP 10723 067
SOURCE_IMAGE_DATE: 1997 08 28
SOURCE_IMAGE_ID: NAPP 10723 066
SOURCE_IMAGE_DATE: 1997 08 28
SOURCE_DEM_DATE: 1993 00 00
AGENCY: WESTERN MAPPING CENTER (WMC)
PRODUCER: UNDEFINED
PRODUCTION_SYSTEM: GIS/MAGIC
COMPRESSION: UNDEFINED
STANDARD_VERSION: 1996 12
METADATA_DATE: 2000 11 16
DATA_FILE_SIZE: 41794768
BYTE_COUNT: 5482
