FILENAME: O4710646.SES.1112445.tif
QUADRANGLE_NAME: COAL CREEK
QUADRANT: SE
WEST_LONGITUDE: -106 18 45.00000
EAST_LONGITUDE: -106 15 0.00000
NORTH_LATITUDE: 47 18 45.00000
SOUTH_LATITUDE: 47 15 0.00000
PRODUCTION_DATE: 2000 11 14
RASTER_ORDER: LEFT_RIGHT/TOP_BOTTOM
BAND_ORGANIZATION: SINGLE FILE
BAND_CONTENT: BLACK&WHITE
BAND_CONTENT: UNDEFINED
BAND_CONTENT: UNDEFINED
BITS_PER_PIXEL: 8
SAMPLES_AND_LINES: 5489 7626
HORIZONTAL_DATUM: NAD83
HORIZONTAL_COORDINATE_SYSTEM: UTM
COORDINATE_ZONE: 13
HORIZONTAL_UNITS: METERS
HORIZONTAL_RESOLUTION: 1.00000
SECONDARY_HORIZONTAL_DATUM: NAD27
XY_ORIGIN: 400337.00000 5241028.00000
SECONDARY_XY_ORIGIN: 400378.51000 5240808.85800
NATION: US
NATION: "SCIENCE
STATE: MT
NW_QUAD_CORNER_XY: 400800.40900 5240727.30500
NE_QUAD_CORNER_XY: 405524.13800 5240649.64600
SE_QUAD_CORNERY_XY: 405412.79300 5233704.03400
SW_QUAD_CORNER_XY: 400683.49400 5233781.70700
SECONDARY_NW_QUAD_XY: 400797.33200 5240508.66500
SECONDARY_NE_QUAD_XY: 405521.20700 5240431.00300
SECONDARY_SE_QUAD_XY: 405409.86200 5233485.41600
SECONDARY_SW_QUAD_XY: 400680.41700 5233563.09100
RMSE_XY: 1.80000
IMAGE_SOURCE: BLACK AND WHITE FILM
SOURCE_IMAGE_ID: NAPP 9106 148
SOURCE_IMAGE_DATE: 1996 08 07
SOURCE_IMAGE_ID: NAPP 9106 146
SOURCE_IMAGE_DATE: 1996 08 07
SOURCE_IMAGE_ID: NAPP 9106 147
SOURCE_IMAGE_DATE: 1996 08 07
SOURCE_DEM_DATE: 1993 00 00
AGENCY: WESTERN MAPPING CENTER (WMC)
PRODUCER: UNDEFINED
PRODUCTION_SYSTEM: GIS/MAGIC
COMPRESSION: UNDEFINED
STANDARD_VERSION: 1996 12
METADATA_DATE: 2000 11 16
DATA_FILE_SIZE: 41864603
BYTE_COUNT: 5489
