FILENAME: O4710644.NES.1112363.tif
QUADRANGLE_NAME: ADA CREEK
QUADRANT: NE
WEST_LONGITUDE: -106 33 45.00000
EAST_LONGITUDE: -106 30 0.00000
NORTH_LATITUDE: 47 22 30.00000
SOUTH_LATITUDE: 47 18 45.00000
PRODUCTION_DATE: 2000 11 15
RASTER_ORDER: LEFT_RIGHT/TOP_BOTTOM
BAND_ORGANIZATION: SINGLE FILE
BAND_CONTENT: BLACK&WHITE
BAND_CONTENT: UNDEFINED
BAND_CONTENT: UNDEFINED
BITS_PER_PIXEL: 8
SAMPLES_AND_LINES: 5506 7642
HORIZONTAL_DATUM: NAD83
HORIZONTAL_COORDINATE_SYSTEM: UTM
COORDINATE_ZONE: 13
HORIZONTAL_UNITS: METERS
HORIZONTAL_RESOLUTION: 1.00000
SECONDARY_HORIZONTAL_DATUM: NAD27
XY_ORIGIN: 381559.00000 5248323.00000
SECONDARY_XY_ORIGIN: 381600.75800 5248103.49800
NATION: US
NATION: "SCIENCE
STATE: MT
NW_QUAD_CORNER_XY: 382044.92500 5248021.44800
NE_QUAD_CORNER_XY: 386763.03900 5247928.64600
SE_QUAD_CORNERY_XY: 386629.28000 5240983.02000
SW_QUAD_CORNER_XY: 381905.59100 5241075.83900
SECONDARY_NW_QUAD_XY: 382041.26100 5247802.79500
SECONDARY_NE_QUAD_XY: 386759.52100 5247709.99000
SECONDARY_SE_QUAD_XY: 386625.76300 5240764.38800
SECONDARY_SW_QUAD_XY: 381901.92700 5240857.20900
RMSE_XY: 1.20000
IMAGE_SOURCE: BLACK AND WHITE FILM
SOURCE_IMAGE_ID: NAPP 9110 085
SOURCE_IMAGE_DATE: 1996 08 11
SOURCE_IMAGE_ID: NAPP 9110 084
SOURCE_IMAGE_DATE: 1996 08 11
SOURCE_IMAGE_ID: NAPP 9110 087
SOURCE_IMAGE_DATE: 1996 08 11
SOURCE_DEM_DATE: 1993 00 00
AGENCY: WESTERN MAPPING CENTER (WMC)
PRODUCER: UNDEFINED
PRODUCTION_SYSTEM: GIS/MAGIC
COMPRESSION: UNDEFINED
STANDARD_VERSION: 1996 12
METADATA_DATE: 2000 11 16
DATA_FILE_SIZE: 42082358
BYTE_COUNT: 5506
