FILENAME: O4710644.SES.1112365.tif
QUADRANGLE_NAME: ADA CREEK
QUADRANT: SE
WEST_LONGITUDE: -106 33 45.00000
EAST_LONGITUDE: -106 30 0.00000
NORTH_LATITUDE: 47 18 45.00000
SOUTH_LATITUDE: 47 15 0.00000
PRODUCTION_DATE: 2000 11 15
RASTER_ORDER: LEFT_RIGHT/TOP_BOTTOM
BAND_ORGANIZATION: SINGLE FILE
BAND_CONTENT: BLACK&WHITE
BAND_CONTENT: UNDEFINED
BAND_CONTENT: UNDEFINED
BITS_PER_PIXEL: 8
SAMPLES_AND_LINES: 5512 7642
HORIZONTAL_DATUM: NAD83
HORIZONTAL_COORDINATE_SYSTEM: UTM
COORDINATE_ZONE: 13
HORIZONTAL_UNITS: METERS
HORIZONTAL_RESOLUTION: 1.00000
SECONDARY_HORIZONTAL_DATUM: NAD27
XY_ORIGIN: 381419.00000 5241377.00000
SECONDARY_XY_ORIGIN: 381460.77100 5241157.64600
NATION: US
NATION: "SCIENCE
STATE: MT
NW_QUAD_CORNER_XY: 381905.59100 5241075.83900
NE_QUAD_CORNER_XY: 386629.28000 5240983.02000
SE_QUAD_CORNERY_XY: 386495.65700 5234037.46600
SW_QUAD_CORNER_XY: 381766.39800 5234130.30000
SECONDARY_NW_QUAD_XY: 381901.92700 5240857.20900
SECONDARY_NE_QUAD_XY: 386625.76300 5240764.38800
SECONDARY_SE_QUAD_XY: 386492.14000 5233818.85800
SECONDARY_SW_QUAD_XY: 381762.73500 5233911.69500
RMSE_XY: 1.60000
IMAGE_SOURCE: BLACK AND WHITE FILM
SOURCE_IMAGE_ID: NAPP 9110 083
SOURCE_IMAGE_DATE: 1996 08 11
SOURCE_DEM_DATE: 1993 00 00
AGENCY: WESTERN MAPPING CENTER (WMC)
PRODUCER: UNDEFINED
PRODUCTION_SYSTEM: GIS/MAGIC
COMPRESSION: UNDEFINED
STANDARD_VERSION: 1996 12
METADATA_DATE: 2000 11 16
DATA_FILE_SIZE: 42128216
BYTE_COUNT: 5512
