FILENAME: O4710642.NES.1112286.tif
QUADRANGLE_NAME: JORDAN SE
QUADRANT: NE
WEST_LONGITUDE: -106 48 45.00000
EAST_LONGITUDE: -106 45 0.00000
NORTH_LATITUDE: 47 22 30.00000
SOUTH_LATITUDE: 47 18 45.00000
PRODUCTION_DATE: 2000 11 13
RASTER_ORDER: LEFT_RIGHT/TOP_BOTTOM
BAND_ORGANIZATION: SINGLE FILE
BAND_CONTENT: BLACK&WHITE
BAND_CONTENT: UNDEFINED
BAND_CONTENT: UNDEFINED
BITS_PER_PIXEL: 8
SAMPLES_AND_LINES: 5529 7657
HORIZONTAL_DATUM: NAD83
HORIZONTAL_COORDINATE_SYSTEM: UTM
COORDINATE_ZONE: 13
HORIZONTAL_UNITS: METERS
HORIZONTAL_RESOLUTION: 1.00000
SECONDARY_HORIZONTAL_DATUM: NAD27
XY_ORIGIN: 362663.00000 5248732.00000
SECONDARY_XY_ORIGIN: 362705.33100 5248512.15100
NATION: US
NATION: "SCIENCE
STATE: MT
NW_QUAD_CORNER_XY: 363172.59200 5248430.55200
NE_QUAD_CORNER_XY: 367890.65700 5248322.59100
SE_QUAD_CORNERY_XY: 367734.59300 5241377.03500
SW_QUAD_CORNER_XY: 363010.95200 5241485.01500
SECONDARY_NW_QUAD_XY: 363168.34200 5248211.91200
SECONDARY_NE_QUAD_XY: 367886.55300 5248103.94700
SECONDARY_SE_QUAD_XY: 367730.49000 5241158.41500
SECONDARY_SW_QUAD_XY: 363006.70200 5241266.39900
RMSE_XY: 2.20000
IMAGE_SOURCE: BLACK AND WHITE FILM
SOURCE_IMAGE_ID: NAPP 9109 039
SOURCE_IMAGE_DATE: 1996 08 11
SOURCE_IMAGE_ID: NAPP 9109 038
SOURCE_IMAGE_DATE: 1996 08 11
SOURCE_DEM_DATE: 1993 00 00
AGENCY: WESTERN MAPPING CENTER (WMC)
PRODUCER: UNDEFINED
PRODUCTION_SYSTEM: GIS/MAGIC
COMPRESSION: UNDEFINED
STANDARD_VERSION: 1996 12
METADATA_DATE: 2000 11 17
DATA_FILE_SIZE: 42341082
BYTE_COUNT: 5529
