FILENAME: O4710641.NES.1112250.tif
QUADRANGLE_NAME: JORDAN
QUADRANT: NE
WEST_LONGITUDE: -106 56 15.00000
EAST_LONGITUDE: -106 52 30.00000
NORTH_LATITUDE: 47 22 30.00000
SOUTH_LATITUDE: 47 18 45.00000
PRODUCTION_DATE: 2000 11 16
RASTER_ORDER: LEFT_RIGHT/TOP_BOTTOM
BAND_ORGANIZATION: SINGLE FILE
BAND_CONTENT: BLACK&WHITE
BAND_CONTENT: UNDEFINED
BAND_CONTENT: UNDEFINED
BITS_PER_PIXEL: 8
SAMPLES_AND_LINES: 5541 7666
HORIZONTAL_DATUM: NAD83
HORIZONTAL_COORDINATE_SYSTEM: UTM
COORDINATE_ZONE: 13
HORIZONTAL_UNITS: METERS
HORIZONTAL_RESOLUTION: 1.00000
SECONDARY_HORIZONTAL_DATUM: NAD27
XY_ORIGIN: 353215.00000 5248960.00000
SECONDARY_XY_ORIGIN: 353257.59200 5248739.99300
NATION: US
NATION: "SCIENCE
STATE: MT
NW_QUAD_CORNER_XY: 353736.50400 5248657.84600
NE_QUAD_CORNER_XY: 358454.54100 5248542.30400
SE_QUAD_CORNERY_XY: 358287.32400 5241596.78600
SW_QUAD_CORNER_XY: 353563.70900 5241712.34900
SECONDARY_NW_QUAD_XY: 353731.96000 5248439.21300
SECONDARY_NE_QUAD_XY: 358450.14400 5248323.66700
SECONDARY_SE_QUAD_XY: 358282.92700 5241378.17300
SECONDARY_SW_QUAD_XY: 353559.16600 5241493.73900
RMSE_XY: 0.70000
IMAGE_SOURCE: BLACK AND WHITE FILM
SOURCE_IMAGE_ID: NAPP 10764 020
SOURCE_IMAGE_DATE: 1997 09 20
SOURCE_IMAGE_ID: NAPP 10764 018
SOURCE_IMAGE_DATE: 1997 09 20
SOURCE_DEM_DATE: 1963 00 00
AGENCY: WESTERN MAPPING CENTER (WMC)
PRODUCER: UNDEFINED
PRODUCTION_SYSTEM: GIS/MAGIC
COMPRESSION: UNDEFINED
STANDARD_VERSION: 1996 12
METADATA_DATE: 2000 11 17
DATA_FILE_SIZE: 42482847
BYTE_COUNT: 5541
