FILENAME: O4710641.NWS.1112251.tif
QUADRANGLE_NAME: JORDAN
QUADRANT: NW
WEST_LONGITUDE: -107 0 0.00000
EAST_LONGITUDE: -106 56 15.00000
NORTH_LATITUDE: 47 22 30.00000
SOUTH_LATITUDE: 47 18 45.00000
PRODUCTION_DATE: 2000 11 16
RASTER_ORDER: LEFT_RIGHT/TOP_BOTTOM
BAND_ORGANIZATION: SINGLE FILE
BAND_CONTENT: BLACK&WHITE
BAND_CONTENT: UNDEFINED
BAND_CONTENT: UNDEFINED
BITS_PER_PIXEL: 8
SAMPLES_AND_LINES: 5547 7669
HORIZONTAL_DATUM: NAD83
HORIZONTAL_COORDINATE_SYSTEM: UTM
COORDINATE_ZONE: 13
HORIZONTAL_UNITS: METERS
HORIZONTAL_RESOLUTION: 1.00000
SECONDARY_HORIZONTAL_DATUM: NAD27
XY_ORIGIN: 348491.00000 5249079.00000
SECONDARY_XY_ORIGIN: 348533.72200 5248858.91400
NATION: US
NATION: "SCIENCE
STATE: MT
NW_QUAD_CORNER_XY: 349018.48100 5248777.17900
NE_QUAD_CORNER_XY: 353736.50400 5248657.84600
SE_QUAD_CORNERY_XY: 353563.70900 5241712.34900
SW_QUAD_CORNER_XY: 348840.10800 5241831.70300
SECONDARY_NW_QUAD_XY: 349013.79000 5248558.54900
SECONDARY_NE_QUAD_XY: 353731.96000 5248439.21300
SECONDARY_SE_QUAD_XY: 353559.16600 5241493.73900
SECONDARY_SW_QUAD_XY: 348835.41800 5241613.09700
RMSE_XY: 1.00000
IMAGE_SOURCE: BLACK AND WHITE FILM
SOURCE_IMAGE_ID: NAPP 10764 081
SOURCE_IMAGE_DATE: 1997 09 20
SOURCE_IMAGE_ID: NAPP 10764 080
SOURCE_IMAGE_DATE: 1997 09 20
SOURCE_DEM_DATE: 1963 00 00
AGENCY: WESTERN MAPPING CENTER (WMC)
PRODUCER: UNDEFINED
PRODUCTION_SYSTEM: GIS/MAGIC
COMPRESSION: UNDEFINED
STANDARD_VERSION: 1996 12
METADATA_DATE: 2000 11 17
DATA_FILE_SIZE: 42545490
BYTE_COUNT: 5547
