FILENAME: O4710641.SWS.1112253.tif
QUADRANGLE_NAME: JORDAN
QUADRANT: SW
WEST_LONGITUDE: -107 0 0.00000
EAST_LONGITUDE: -106 56 15.00000
NORTH_LATITUDE: 47 18 45.00000
SOUTH_LATITUDE: 47 15 0.00000
PRODUCTION_DATE: 2000 11 16
RASTER_ORDER: LEFT_RIGHT/TOP_BOTTOM
BAND_ORGANIZATION: SINGLE FILE
BAND_CONTENT: BLACK&WHITE
BAND_CONTENT: UNDEFINED
BAND_CONTENT: UNDEFINED
BITS_PER_PIXEL: 8
SAMPLES_AND_LINES: 5552 7670
HORIZONTAL_DATUM: NAD83
HORIZONTAL_COORDINATE_SYSTEM: UTM
COORDINATE_ZONE: 13
HORIZONTAL_UNITS: METERS
HORIZONTAL_RESOLUTION: 1.00000
SECONDARY_HORIZONTAL_DATUM: NAD27
XY_ORIGIN: 348313.00000 5242134.00000
SECONDARY_XY_ORIGIN: 348355.71800 5241914.03900
NATION: US
NATION: "SCIENCE
STATE: MT
NW_QUAD_CORNER_XY: 348840.10800 5241831.70300
NE_QUAD_CORNER_XY: 353563.70900 5241712.34900
SE_QUAD_CORNERY_XY: 353391.08900 5234766.91900
SW_QUAD_CORNER_XY: 348661.91600 5234886.29400
SECONDARY_NW_QUAD_XY: 348835.41800 5241613.09700
SECONDARY_NE_QUAD_XY: 353559.16600 5241493.73900
SECONDARY_SE_QUAD_XY: 353386.54700 5234548.33400
SECONDARY_SW_QUAD_XY: 348657.22700 5234667.71300
RMSE_XY: 0.90000
IMAGE_SOURCE: BLACK AND WHITE FILM
SOURCE_IMAGE_ID: NAPP 10764 083
SOURCE_IMAGE_DATE: 1997 09 20
SOURCE_DEM_DATE: 1963 00 00
AGENCY: WESTERN MAPPING CENTER (WMC)
PRODUCER: UNDEFINED
PRODUCTION_SYSTEM: GIS/MAGIC
COMPRESSION: UNDEFINED
STANDARD_VERSION: 1996 12
METADATA_DATE: 2000 11 17
DATA_FILE_SIZE: 42589392
BYTE_COUNT: 5552
