FILENAME: O4710640.SES.1112577.tif
QUADRANGLE_NAME: JOHNSON COULEE WEST
QUADRANT: SE
WEST_LONGITUDE: -106 3 45.00000
EAST_LONGITUDE: -106 0 0.00000
NORTH_LATITUDE: 47 26 15.00000
SOUTH_LATITUDE: 47 22 30.00000
PRODUCTION_DATE: 2000 11 14
RASTER_ORDER: LEFT_RIGHT/TOP_BOTTOM
BAND_ORGANIZATION: SINGLE FILE
BAND_CONTENT: BLACK&WHITE
BAND_CONTENT: UNDEFINED
BAND_CONTENT: UNDEFINED
BITS_PER_PIXEL: 8
SAMPLES_AND_LINES: 5454 7612
HORIZONTAL_DATUM: NAD83
HORIZONTAL_COORDINATE_SYSTEM: UTM
COORDINATE_ZONE: 13
HORIZONTAL_UNITS: METERS
HORIZONTAL_RESOLUTION: 1.00000
SECONDARY_HORIZONTAL_DATUM: NAD27
XY_ORIGIN: 419445.00000 5254632.00000
SECONDARY_XY_ORIGIN: 419486.03500 5254412.51700
NATION: US
NATION: "SCIENCE
STATE: MT
NW_QUAD_CORNER_XY: 419884.94600 5254330.91900
NE_QUAD_CORNER_XY: 424597.55500 5254268.43800
SE_QUAD_CORNERY_XY: 424508.30200 5247322.63200
SW_QUAD_CORNER_XY: 419790.11300 5247385.12400
SECONDARY_NW_QUAD_XY: 419882.45400 5254112.22300
SECONDARY_NE_QUAD_XY: 424595.20900 5254049.74100
SECONDARY_SE_QUAD_XY: 424505.95700 5247103.95800
SECONDARY_SW_QUAD_XY: 419787.62200 5247166.45200
RMSE_XY: 1.30000
IMAGE_SOURCE: BLACK AND WHITE FILM
SOURCE_IMAGE_ID: NAPP 9089 080
SOURCE_IMAGE_DATE: 1996 07 07
SOURCE_DEM_DATE: 1993 00 00
AGENCY: WESTERN MAPPING CENTER (WMC)
PRODUCER: UNDEFINED
PRODUCTION_SYSTEM: GIS/MAGIC
COMPRESSION: UNDEFINED
STANDARD_VERSION: 1996 12
METADATA_DATE: 2000 11 16
DATA_FILE_SIZE: 41521302
BYTE_COUNT: 5454
