FILENAME: O4710640.SWS.1112578.tif
QUADRANGLE_NAME: JOHNSON COULEE WEST
QUADRANT: SW
WEST_LONGITUDE: -106 7 30.00000
EAST_LONGITUDE: -106 3 45.00000
NORTH_LATITUDE: 47 26 15.00000
SOUTH_LATITUDE: 47 22 30.00000
PRODUCTION_DATE: 2000 11 14
RASTER_ORDER: LEFT_RIGHT/TOP_BOTTOM
BAND_ORGANIZATION: SINGLE FILE
BAND_CONTENT: BLACK&WHITE
BAND_CONTENT: UNDEFINED
BAND_CONTENT: UNDEFINED
BITS_PER_PIXEL: 8
SAMPLES_AND_LINES: 5459 7615
HORIZONTAL_DATUM: NAD83
HORIZONTAL_COORDINATE_SYSTEM: UTM
COORDINATE_ZONE: 13
HORIZONTAL_UNITS: METERS
HORIZONTAL_RESOLUTION: 1.00000
SECONDARY_HORIZONTAL_DATUM: NAD27
XY_ORIGIN: 414727.00000 5254698.00000
SECONDARY_XY_ORIGIN: 414768.10700 5254478.58100
NATION: US
NATION: "SCIENCE
STATE: MT
NW_QUAD_CORNER_XY: 415172.34500 5254397.18700
NE_QUAD_CORNER_XY: 419884.94600 5254330.91900
SE_QUAD_CORNERY_XY: 419790.11300 5247385.12400
SW_QUAD_CORNER_XY: 415071.93300 5247451.40400
SECONDARY_NW_QUAD_XY: 415169.70600 5254178.49400
SECONDARY_NE_QUAD_XY: 419882.45400 5254112.22300
SECONDARY_SE_QUAD_XY: 419787.62200 5247166.45200
SECONDARY_SW_QUAD_XY: 415069.29500 5247232.73400
RMSE_XY: 1.30000
IMAGE_SOURCE: BLACK AND WHITE FILM
SOURCE_IMAGE_ID: NAPP 9090 027
SOURCE_IMAGE_DATE: 1996 07 07
SOURCE_DEM_DATE: 1993 00 00
AGENCY: WESTERN MAPPING CENTER (WMC)
PRODUCER: UNDEFINED
PRODUCTION_SYSTEM: GIS/MAGIC
COMPRESSION: UNDEFINED
STANDARD_VERSION: 1996 12
METADATA_DATE: 2000 11 16
DATA_FILE_SIZE: 41575744
BYTE_COUNT: 5459
