FILENAME: O4710639.SES.1112477.tif
QUADRANGLE_NAME: FORTYFOUR COULEE
QUADRANT: SE
WEST_LONGITUDE: -106 11 15.00000
EAST_LONGITUDE: -106 7 30.00000
NORTH_LATITUDE: 47 26 15.00000
SOUTH_LATITUDE: 47 22 30.00000
PRODUCTION_DATE: 2000 11 14
RASTER_ORDER: LEFT_RIGHT/TOP_BOTTOM
BAND_ORGANIZATION: SINGLE FILE
BAND_CONTENT: BLACK&WHITE
BAND_CONTENT: UNDEFINED
BAND_CONTENT: UNDEFINED
BITS_PER_PIXEL: 8
SAMPLES_AND_LINES: 5466 7619
HORIZONTAL_DATUM: NAD83
HORIZONTAL_COORDINATE_SYSTEM: UTM
COORDINATE_ZONE: 13
HORIZONTAL_UNITS: METERS
HORIZONTAL_RESOLUTION: 1.00000
SECONDARY_HORIZONTAL_DATUM: NAD27
XY_ORIGIN: 410008.00000 5254768.00000
SECONDARY_XY_ORIGIN: 410049.17900 5254548.64400
NATION: US
NATION: "SCIENCE
STATE: MT
NW_QUAD_CORNER_XY: 410459.75200 5254467.24300
NE_QUAD_CORNER_XY: 415172.34500 5254397.18700
SE_QUAD_CORNERY_XY: 415071.93300 5247451.40400
SW_QUAD_CORNER_XY: 410353.76000 5247521.47300
SECONDARY_NW_QUAD_XY: 410456.96700 5254248.55200
SECONDARY_NE_QUAD_XY: 415169.70600 5254178.49400
SECONDARY_SE_QUAD_XY: 415069.29500 5247232.73400
SECONDARY_SW_QUAD_XY: 410350.97600 5247302.80500
RMSE_XY: 1.70000
IMAGE_SOURCE: BLACK AND WHITE FILM
SOURCE_IMAGE_ID: NAPP 9121 024
SOURCE_IMAGE_DATE: 1996 09 06
SOURCE_IMAGE_ID: NAPP 9106 079
SOURCE_IMAGE_DATE: 1996 08 07
SOURCE_IMAGE_ID: NAPP 9121 025
SOURCE_IMAGE_DATE: 1996 09 06
SOURCE_DEM_DATE: 1993 00 00
AGENCY: WESTERN MAPPING CENTER (WMC)
PRODUCER: UNDEFINED
PRODUCTION_SYSTEM: GIS/MAGIC
COMPRESSION: UNDEFINED
STANDARD_VERSION: 1996 12
METADATA_DATE: 2000 11 16
DATA_FILE_SIZE: 41650920
BYTE_COUNT: 5466
