FILENAME: O4710638.SES.1112441.tif
QUADRANGLE_NAME: FRANK COULEE
QUADRANT: SE
WEST_LONGITUDE: -106 18 45.00000
EAST_LONGITUDE: -106 15 0.00000
NORTH_LATITUDE: 47 26 15.00000
SOUTH_LATITUDE: 47 22 30.00000
PRODUCTION_DATE: 2000 11 14
RASTER_ORDER: LEFT_RIGHT/TOP_BOTTOM
BAND_ORGANIZATION: SINGLE FILE
BAND_CONTENT: BLACK&WHITE
BAND_CONTENT: UNDEFINED
BAND_CONTENT: UNDEFINED
BITS_PER_PIXEL: 8
SAMPLES_AND_LINES: 5478 7627
HORIZONTAL_DATUM: NAD83
HORIZONTAL_COORDINATE_SYSTEM: UTM
COORDINATE_ZONE: 13
HORIZONTAL_UNITS: METERS
HORIZONTAL_RESOLUTION: 1.00000
SECONDARY_HORIZONTAL_DATUM: NAD27
XY_ORIGIN: 400571.00000 5254920.00000
SECONDARY_XY_ORIGIN: 400612.32800 5254700.63500
NATION: US
NATION: "SCIENCE
STATE: MT
NW_QUAD_CORNER_XY: 401034.59500 5254618.71800
NE_QUAD_CORNER_XY: 405747.16900 5254541.08700
SE_QUAD_CORNERY_XY: 405635.59700 5247595.33000
SW_QUAD_CORNER_XY: 400917.44200 5247672.97600
SECONDARY_NW_QUAD_XY: 401031.51600 5254400.03200
SECONDARY_NE_QUAD_XY: 405744.23700 5254322.39800
SECONDARY_SE_QUAD_XY: 405632.66600 5247376.66400
SECONDARY_SW_QUAD_XY: 400914.36500 5247454.31200
RMSE_XY: 2.90000
IMAGE_SOURCE: BLACK AND WHITE FILM
SOURCE_IMAGE_ID: NAPP 9106 152
SOURCE_IMAGE_DATE: 1996 08 07
SOURCE_IMAGE_ID: NAPP 9106 151
SOURCE_IMAGE_DATE: 1996 08 07
SOURCE_IMAGE_ID: NAPP 9106 153
SOURCE_IMAGE_DATE: 1996 08 07
SOURCE_DEM_DATE: 1993 00 00
AGENCY: WESTERN MAPPING CENTER (WMC)
PRODUCER: UNDEFINED
PRODUCTION_SYSTEM: GIS/MAGIC
COMPRESSION: UNDEFINED
STANDARD_VERSION: 1996 12
METADATA_DATE: 2000 11 16
DATA_FILE_SIZE: 41786184
BYTE_COUNT: 5478
