FILENAME: O4710636.NWS.1112384.tif
QUADRANGLE_NAME: BATEMAN COULEE NE
QUADRANT: NW
WEST_LONGITUDE: -106 37 30.00000
EAST_LONGITUDE: -106 33 45.00000
NORTH_LATITUDE: 47 30 0.00000
SOUTH_LATITUDE: 47 26 15.00000
PRODUCTION_DATE: 2000 11 15
RASTER_ORDER: LEFT_RIGHT/TOP_BOTTOM
BAND_ORGANIZATION: SINGLE FILE
BAND_CONTENT: BLACK&WHITE
BAND_CONTENT: UNDEFINED
BAND_CONTENT: UNDEFINED
BITS_PER_PIXEL: 8
SAMPLES_AND_LINES: 5501 7646
HORIZONTAL_DATUM: NAD83
HORIZONTAL_COORDINATE_SYSTEM: UTM
COORDINATE_ZONE: 13
HORIZONTAL_UNITS: METERS
HORIZONTAL_RESOLUTION: 1.00000
SECONDARY_HORIZONTAL_DATUM: NAD27
XY_ORIGIN: 377125.00000 5262311.00000
SECONDARY_XY_ORIGIN: 377166.89300 5262091.12400
NATION: US
NATION: "SCIENCE
STATE: MT
NW_QUAD_CORNER_XY: 377617.08500 5262009.43300
NE_QUAD_CORNER_XY: 382324.01800 5261912.87700
SE_QUAD_CORNERY_XY: 382184.40100 5254967.12700
SW_QUAD_CORNER_XY: 377471.88100 5255063.70100
SECONDARY_NW_QUAD_XY: 377613.27400 5261790.73800
SECONDARY_NE_QUAD_XY: 382320.35300 5261694.18000
SECONDARY_SE_QUAD_XY: 382180.73700 5254748.45100
SECONDARY_SW_QUAD_XY: 377468.07000 5254845.02800
RMSE_XY: 1.30000
IMAGE_SOURCE: BLACK AND WHITE FILM
SOURCE_IMAGE_ID: NAPP 9110 190
SOURCE_IMAGE_DATE: 1996 08 11
SOURCE_IMAGE_ID: NAPP 9111 108
SOURCE_IMAGE_DATE: 1996 08 11
SOURCE_IMAGE_ID: NAPP 9110 189
SOURCE_IMAGE_DATE: 1996 08 11
SOURCE_DEM_DATE: 1993 00 00
AGENCY: WESTERN MAPPING CENTER (WMC)
PRODUCER: UNDEFINED
PRODUCTION_SYSTEM: GIS/MAGIC
COMPRESSION: UNDEFINED
STANDARD_VERSION: 1996 12
METADATA_DATE: 2000 11 16
DATA_FILE_SIZE: 42066147
BYTE_COUNT: 5501
