FILENAME: O4710635.NES.1112326.tif
QUADRANGLE_NAME: BATEMAN COULEE
QUADRANT: NE
WEST_LONGITUDE: -106 41 15.00000
EAST_LONGITUDE: -106 37 30.00000
NORTH_LATITUDE: 47 30 0.00000
SOUTH_LATITUDE: 47 26 15.00000
PRODUCTION_DATE: 2000 11 14
RASTER_ORDER: LEFT_RIGHT/TOP_BOTTOM
BAND_ORGANIZATION: SINGLE FILE
BAND_CONTENT: BLACK&WHITE
BAND_CONTENT: UNDEFINED
BAND_CONTENT: UNDEFINED
BITS_PER_PIXEL: 8
SAMPLES_AND_LINES: 5507 7651
HORIZONTAL_DATUM: NAD83
HORIZONTAL_COORDINATE_SYSTEM: UTM
COORDINATE_ZONE: 13
HORIZONTAL_UNITS: METERS
HORIZONTAL_RESOLUTION: 1.00000
SECONDARY_HORIZONTAL_DATUM: NAD27
XY_ORIGIN: 372412.00000 5262412.00000
SECONDARY_XY_ORIGIN: 372454.05500 5262192.04500
NATION: US
NATION: "SCIENCE
STATE: MT
NW_QUAD_CORNER_XY: 372910.16500 5262109.77800
NE_QUAD_CORNER_XY: 377617.08500 5262009.43300
SE_QUAD_CORNERY_XY: 377471.88100 5255063.70100
SW_QUAD_CORNER_XY: 372759.37300 5255164.06400
SECONDARY_NW_QUAD_XY: 372906.20700 5261891.08600
SECONDARY_NE_QUAD_XY: 377613.27400 5261790.73800
SECONDARY_SE_QUAD_XY: 377468.07000 5254845.02800
SECONDARY_SW_QUAD_XY: 372755.41600 5254945.39400
RMSE_XY: 1.60000
IMAGE_SOURCE: BLACK AND WHITE FILM
SOURCE_IMAGE_ID: NAPP 9111 107
SOURCE_IMAGE_DATE: 1996 08 11
SOURCE_IMAGE_ID: NAPP 9111 108
SOURCE_IMAGE_DATE: 1996 08 11
SOURCE_DEM_DATE: 1993 00 00
AGENCY: WESTERN MAPPING CENTER (WMC)
PRODUCER: UNDEFINED
PRODUCTION_SYSTEM: GIS/MAGIC
COMPRESSION: UNDEFINED
STANDARD_VERSION: 1996 12
METADATA_DATE: 2000 11 16
DATA_FILE_SIZE: 42139564
BYTE_COUNT: 5507
