FILENAME: O4710634.NWS.1112283.tif
QUADRANGLE_NAME: JORDAN NE
QUADRANT: NW
WEST_LONGITUDE: -106 52 30.00000
EAST_LONGITUDE: -106 48 45.00000
NORTH_LATITUDE: 47 30 0.00000
SOUTH_LATITUDE: 47 26 15.00000
PRODUCTION_DATE: 2000 11 13
RASTER_ORDER: LEFT_RIGHT/TOP_BOTTOM
BAND_ORGANIZATION: SINGLE FILE
BAND_CONTENT: BLACK&WHITE
BAND_CONTENT: UNDEFINED
BAND_CONTENT: UNDEFINED
BITS_PER_PIXEL: 8
SAMPLES_AND_LINES: 5524 7662
HORIZONTAL_DATUM: NAD83
HORIZONTAL_COORDINATE_SYSTEM: UTM
COORDINATE_ZONE: 13
HORIZONTAL_UNITS: METERS
HORIZONTAL_RESOLUTION: 1.00000
SECONDARY_HORIZONTAL_DATUM: NAD27
XY_ORIGIN: 358274.00000 5262736.00000
SECONDARY_XY_ORIGIN: 358316.47300 5262515.81800
NATION: US
NATION: "SCIENCE
STATE: MT
NW_QUAD_CORNER_XY: 358789.48500 5262433.54200
NE_QUAD_CORNER_XY: 363496.36400 5262321.83200
SE_QUAD_CORNERY_XY: 363334.39600 5255376.15800
SW_QUAD_CORNER_XY: 358621.92800 5255487.88900
SECONDARY_NW_QUAD_XY: 358785.08600 5262214.86100
SECONDARY_NE_QUAD_XY: 363492.11300 5262103.14700
SECONDARY_SE_QUAD_XY: 363330.14500 5255157.49500
SECONDARY_SW_QUAD_XY: 358617.53000 5255269.22900
RMSE_XY: 1.70000
IMAGE_SOURCE: BLACK AND WHITE FILM
SOURCE_IMAGE_ID: NAPP 10723 042
SOURCE_IMAGE_DATE: 1997 08 28
SOURCE_IMAGE_ID: NAPP 10723 043
SOURCE_IMAGE_DATE: 1997 08 28
SOURCE_DEM_DATE: 1993 00 00
AGENCY: WESTERN MAPPING CENTER (WMC)
PRODUCER: UNDEFINED
PRODUCTION_SYSTEM: GIS/MAGIC
COMPRESSION: UNDEFINED
STANDARD_VERSION: 1996 12
METADATA_DATE: 2000 11 17
DATA_FILE_SIZE: 42330412
BYTE_COUNT: 5524
