FILENAME: O4710633.SES.1112248.tif
QUADRANGLE_NAME: JORDAN NW
QUADRANT: SE
WEST_LONGITUDE: -106 56 15.00000
EAST_LONGITUDE: -106 52 30.00000
NORTH_LATITUDE: 47 26 15.00000
SOUTH_LATITUDE: 47 22 30.00000
PRODUCTION_DATE: 2000 11 16
RASTER_ORDER: LEFT_RIGHT/TOP_BOTTOM
BAND_ORGANIZATION: SINGLE FILE
BAND_CONTENT: BLACK&WHITE
BAND_CONTENT: UNDEFINED
BAND_CONTENT: UNDEFINED
BITS_PER_PIXEL: 8
SAMPLES_AND_LINES: 5535 7665
HORIZONTAL_DATUM: NAD83
HORIZONTAL_COORDINATE_SYSTEM: UTM
COORDINATE_ZONE: 13
HORIZONTAL_UNITS: METERS
HORIZONTAL_RESOLUTION: 1.00000
SECONDARY_HORIZONTAL_DATUM: NAD27
XY_ORIGIN: 353388.00000 5255905.00000
SECONDARY_XY_ORIGIN: 353430.59700 5255684.86800
NATION: US
NATION: "SCIENCE
STATE: MT
NW_QUAD_CORNER_XY: 353909.47400 5255603.41000
NE_QUAD_CORNER_XY: 358621.92800 5255487.88900
SE_QUAD_CORNERY_XY: 358454.54100 5248542.30400
SW_QUAD_CORNER_XY: 353736.50400 5248657.84600
SECONDARY_NW_QUAD_XY: 353904.93000 5255384.75400
SECONDARY_NE_QUAD_XY: 358617.53000 5255269.22900
SECONDARY_SE_QUAD_XY: 358450.14400 5248323.66700
SECONDARY_SW_QUAD_XY: 353731.96000 5248439.21300
RMSE_XY: 2.00000
IMAGE_SOURCE: BLACK AND WHITE FILM
SOURCE_IMAGE_ID: NAPP 9085 112
SOURCE_IMAGE_DATE: 1996 06 13
SOURCE_IMAGE_ID: NAPP 10764 018
SOURCE_IMAGE_DATE: 1997 09 20
SOURCE_DEM_DATE: 1993 00 00
AGENCY: WESTERN MAPPING CENTER (WMC)
PRODUCER: UNDEFINED
PRODUCTION_SYSTEM: GIS/MAGIC
COMPRESSION: UNDEFINED
STANDARD_VERSION: 1996 12
METADATA_DATE: 2000 11 17
DATA_FILE_SIZE: 42431310
BYTE_COUNT: 5535
