FILENAME: O4710633.SWS.1112249.tif
QUADRANGLE_NAME: JORDAN NW
QUADRANT: SW
WEST_LONGITUDE: -107 0 0.00000
EAST_LONGITUDE: -106 56 15.00000
NORTH_LATITUDE: 47 26 15.00000
SOUTH_LATITUDE: 47 22 30.00000
PRODUCTION_DATE: 2000 11 16
RASTER_ORDER: LEFT_RIGHT/TOP_BOTTOM
BAND_ORGANIZATION: SINGLE FILE
BAND_CONTENT: BLACK&WHITE
BAND_CONTENT: UNDEFINED
BAND_CONTENT: UNDEFINED
BITS_PER_PIXEL: 8
SAMPLES_AND_LINES: 5541 7670
HORIZONTAL_DATUM: NAD83
HORIZONTAL_COORDINATE_SYSTEM: UTM
COORDINATE_ZONE: 13
HORIZONTAL_UNITS: METERS
HORIZONTAL_RESOLUTION: 1.00000
SECONDARY_HORIZONTAL_DATUM: NAD27
XY_ORIGIN: 348670.00000 5256025.00000
SECONDARY_XY_ORIGIN: 348712.72700 5255804.79000
NATION: US
NATION: "SCIENCE
STATE: MT
NW_QUAD_CORNER_XY: 349197.03500 5255722.72200
NE_QUAD_CORNER_XY: 353909.47400 5255603.41000
SE_QUAD_CORNERY_XY: 353736.50400 5248657.84600
SW_QUAD_CORNER_XY: 349018.48100 5248777.17900
SECONDARY_NW_QUAD_XY: 349192.34400 5255504.06900
SECONDARY_NE_QUAD_XY: 353904.93000 5255384.75400
SECONDARY_SE_QUAD_XY: 353731.96000 5248439.21300
SECONDARY_SW_QUAD_XY: 349013.79000 5248558.54900
RMSE_XY: 1.60000
IMAGE_SOURCE: BLACK AND WHITE FILM
SOURCE_IMAGE_ID: NAPP 9101 011
SOURCE_IMAGE_DATE: 1996 07 15
SOURCE_IMAGE_ID: NAPP 10764 080
SOURCE_IMAGE_DATE: 1997 09 20
SOURCE_DEM_DATE: 1993 00 00
AGENCY: WESTERN MAPPING CENTER (WMC)
PRODUCER: UNDEFINED
PRODUCTION_SYSTEM: GIS/MAGIC
COMPRESSION: UNDEFINED
STANDARD_VERSION: 1996 12
METADATA_DATE: 2000 11 17
DATA_FILE_SIZE: 42505011
BYTE_COUNT: 5541
